BEGIN:VCALENDAR
VERSION:2.0
PRODID:-//WSU International - ECPv6.1.3//NONSGML v1.0//EN
CALSCALE:GREGORIAN
METHOD:PUBLISH
X-WR-CALNAME:WSU International
X-ORIGINAL-URL:https://ip.wsu.edu
X-WR-CALDESC:Events for WSU International
REFRESH-INTERVAL;VALUE=DURATION:PT1H
X-Robots-Tag:noindex
X-PUBLISHED-TTL:PT1H
BEGIN:VTIMEZONE
TZID:America/Los_Angeles
BEGIN:DAYLIGHT
TZOFFSETFROM:-0800
TZOFFSETTO:-0700
TZNAME:PDT
DTSTART:20250309T100000
END:DAYLIGHT
BEGIN:STANDARD
TZOFFSETFROM:-0700
TZOFFSETTO:-0800
TZNAME:PST
DTSTART:20251102T090000
END:STANDARD
END:VTIMEZONE
BEGIN:VEVENT
DTSTART;TZID=America/Los_Angeles:20251001T120000
DTEND;TZID=America/Los_Angeles:20251001T130000
DTSTAMP:20260422T061618
CREATED:20250926T213944Z
LAST-MODIFIED:20250929T234659Z
UID:10001273-1759320000-1759323600@ip.wsu.edu
SUMMARY:English Conversation Table
DESCRIPTION:
URL:https://ip.wsu.edu/event/english-conversation-table/2025-10-01/
LOCATION:CUB L46
CATEGORIES:International Center,Language Table
ORGANIZER;CN="International%20Center":MAILTO:ip.intlcenter@wsu.edu
END:VEVENT
BEGIN:VEVENT
DTSTART;TZID=America/Los_Angeles:20251001T150000
DTEND;TZID=America/Los_Angeles:20251001T160000
DTSTAMP:20260422T061618
CREATED:20250926T215054Z
LAST-MODIFIED:20260206T220859Z
UID:10003098-1759330800-1759334400@ip.wsu.edu
SUMMARY:Korean Conversation Table
DESCRIPTION:
URL:https://ip.wsu.edu/event/korean-conversation-table/2025-10-01/
LOCATION:CUB L37
CATEGORIES:International Center,Language Table
ORGANIZER;CN="International%20Center":MAILTO:ip.intlcenter@wsu.edu
END:VEVENT
END:VCALENDAR