BEGIN:VCALENDAR
VERSION:2.0
PRODID:-//WSU International - ECPv6.1.3//NONSGML v1.0//EN
CALSCALE:GREGORIAN
METHOD:PUBLISH
X-WR-CALNAME:WSU International
X-ORIGINAL-URL:https://ip.wsu.edu
X-WR-CALDESC:Events for WSU International
REFRESH-INTERVAL;VALUE=DURATION:PT1H
X-Robots-Tag:noindex
X-PUBLISHED-TTL:PT1H
BEGIN:VTIMEZONE
TZID:America/Los_Angeles
BEGIN:DAYLIGHT
TZOFFSETFROM:-0800
TZOFFSETTO:-0700
TZNAME:PDT
DTSTART:20250309T100000
END:DAYLIGHT
BEGIN:STANDARD
TZOFFSETFROM:-0700
TZOFFSETTO:-0800
TZNAME:PST
DTSTART:20251102T090000
END:STANDARD
END:VTIMEZONE
BEGIN:VEVENT
DTSTART;TZID=America/Los_Angeles:20251205T153000
DTEND;TZID=America/Los_Angeles:20251205T173000
DTSTAMP:20260425T031742
CREATED:20250926T215937Z
LAST-MODIFIED:20260206T221428Z
UID:10003892-1764948600-1764955800@ip.wsu.edu
SUMMARY:Japanese Conversation Table
DESCRIPTION:
URL:https://ip.wsu.edu/event/japanese-conversation-table/2025-12-05/
LOCATION:CUB L37
CATEGORIES:International Center,Language Table
ORGANIZER;CN="International%20Center":MAILTO:ip.intlcenter@wsu.edu
END:VEVENT
BEGIN:VEVENT
DTSTART;TZID=America/Los_Angeles:20251205T150000
DTEND;TZID=America/Los_Angeles:20251205T163000
DTSTAMP:20260425T031742
CREATED:20250926T215725Z
LAST-MODIFIED:20260206T221438Z
UID:10003631-1764946800-1764952200@ip.wsu.edu
SUMMARY:Chinese Conversation Table
DESCRIPTION:
URL:https://ip.wsu.edu/event/chinese-conversation-table/2025-12-05/
LOCATION:CUB L38
CATEGORIES:International Center,Language Table
ORGANIZER;CN="International%20Center":MAILTO:ip.intlcenter@wsu.edu
END:VEVENT
BEGIN:VEVENT
DTSTART;TZID=America/Los_Angeles:20251205T150000
DTEND;TZID=America/Los_Angeles:20251205T160000
DTSTAMP:20260425T031742
CREATED:20250926T213621Z
LAST-MODIFIED:20260211T053944Z
UID:10005166-1764946800-1764950400@ip.wsu.edu
SUMMARY:Coffee Hour
DESCRIPTION:
URL:https://ip.wsu.edu/event/coffee-hour/2025-12-05/
LOCATION:CUB L46
CATEGORIES:Coffee Hour,International Center
ORGANIZER;CN="International%20Center":MAILTO:ip.intlcenter@wsu.edu
END:VEVENT
BEGIN:VEVENT
DTSTART;TZID=America/Los_Angeles:20251205T120000
DTEND;TZID=America/Los_Angeles:20251205T130000
DTSTAMP:20260425T031742
CREATED:20250926T213944Z
LAST-MODIFIED:20250929T234659Z
UID:10001320-1764936000-1764939600@ip.wsu.edu
SUMMARY:English Conversation Table
DESCRIPTION:
URL:https://ip.wsu.edu/event/english-conversation-table/2025-12-05/
LOCATION:CUB L46
CATEGORIES:International Center,Language Table
ORGANIZER;CN="International%20Center":MAILTO:ip.intlcenter@wsu.edu
END:VEVENT
BEGIN:VEVENT
DTSTART;TZID=America/Los_Angeles:20251204T120000
DTEND;TZID=America/Los_Angeles:20251204T130000
DTSTAMP:20260425T031742
CREATED:20250926T213944Z
LAST-MODIFIED:20250929T234659Z
UID:10004677-1764849600-1764853200@ip.wsu.edu
SUMMARY:English Conversation Table
DESCRIPTION:
URL:https://ip.wsu.edu/event/english-conversation-table/2025-12-04/
LOCATION:CUB L46
CATEGORIES:International Center,Language Table
ORGANIZER;CN="International%20Center":MAILTO:ip.intlcenter@wsu.edu
END:VEVENT
BEGIN:VEVENT
DTSTART;TZID=America/Los_Angeles:20251203T150000
DTEND;TZID=America/Los_Angeles:20251203T160000
DTSTAMP:20260425T031742
CREATED:20250926T215054Z
LAST-MODIFIED:20260206T220859Z
UID:10003107-1764774000-1764777600@ip.wsu.edu
SUMMARY:Korean Conversation Table
DESCRIPTION:
URL:https://ip.wsu.edu/event/korean-conversation-table/2025-12-03/
LOCATION:CUB L37
CATEGORIES:International Center,Language Table
ORGANIZER;CN="International%20Center":MAILTO:ip.intlcenter@wsu.edu
END:VEVENT
BEGIN:VEVENT
DTSTART;TZID=America/Los_Angeles:20251203T120000
DTEND;TZID=America/Los_Angeles:20251203T130000
DTSTAMP:20260425T031742
CREATED:20250926T213944Z
LAST-MODIFIED:20250929T234659Z
UID:10001318-1764763200-1764766800@ip.wsu.edu
SUMMARY:English Conversation Table
DESCRIPTION:
URL:https://ip.wsu.edu/event/english-conversation-table/2025-12-03/
LOCATION:CUB L46
CATEGORIES:International Center,Language Table
ORGANIZER;CN="International%20Center":MAILTO:ip.intlcenter@wsu.edu
END:VEVENT
BEGIN:VEVENT
DTSTART;TZID=America/Los_Angeles:20251202T133000
DTEND;TZID=America/Los_Angeles:20251202T143000
DTSTAMP:20260425T031742
CREATED:20250926T220529Z
LAST-MODIFIED:20260211T054103Z
UID:10005447-1764682200-1764685800@ip.wsu.edu
SUMMARY:Crafting Hour
DESCRIPTION:
URL:https://ip.wsu.edu/event/themed-crafting-hour/2025-12-02/
LOCATION:CUB L46
CATEGORIES:International Center
ORGANIZER;CN="International%20Center":MAILTO:ip.intlcenter@wsu.edu
END:VEVENT
BEGIN:VEVENT
DTSTART;TZID=America/Los_Angeles:20251202T120000
DTEND;TZID=America/Los_Angeles:20251202T130000
DTSTAMP:20260425T031742
CREATED:20250926T213944Z
LAST-MODIFIED:20250929T234659Z
UID:10001317-1764676800-1764680400@ip.wsu.edu
SUMMARY:English Conversation Table
DESCRIPTION:
URL:https://ip.wsu.edu/event/english-conversation-table/2025-12-02/
LOCATION:CUB L46
CATEGORIES:International Center,Language Table
ORGANIZER;CN="International%20Center":MAILTO:ip.intlcenter@wsu.edu
END:VEVENT
BEGIN:VEVENT
DTSTART;TZID=America/Los_Angeles:20251201T120000
DTEND;TZID=America/Los_Angeles:20251201T130000
DTSTAMP:20260425T031742
CREATED:20250926T213944Z
LAST-MODIFIED:20250929T234659Z
UID:10001316-1764590400-1764594000@ip.wsu.edu
SUMMARY:English Conversation Table
DESCRIPTION:
URL:https://ip.wsu.edu/event/english-conversation-table/2025-12-01/
LOCATION:CUB L46
CATEGORIES:International Center,Language Table
ORGANIZER;CN="International%20Center":MAILTO:ip.intlcenter@wsu.edu
END:VEVENT
BEGIN:VEVENT
DTSTART;TZID=America/Los_Angeles:20251128T153000
DTEND;TZID=America/Los_Angeles:20251128T173000
DTSTAMP:20260425T031742
CREATED:20250926T215937Z
LAST-MODIFIED:20260206T221428Z
UID:10003891-1764343800-1764351000@ip.wsu.edu
SUMMARY:Japanese Conversation Table
DESCRIPTION:
URL:https://ip.wsu.edu/event/japanese-conversation-table/2025-11-28/
LOCATION:CUB L37
CATEGORIES:International Center,Language Table
ORGANIZER;CN="International%20Center":MAILTO:ip.intlcenter@wsu.edu
END:VEVENT
BEGIN:VEVENT
DTSTART;TZID=America/Los_Angeles:20251128T150000
DTEND;TZID=America/Los_Angeles:20251128T163000
DTSTAMP:20260425T031742
CREATED:20250926T215725Z
LAST-MODIFIED:20260206T221438Z
UID:10003630-1764342000-1764347400@ip.wsu.edu
SUMMARY:Chinese Conversation Table
DESCRIPTION:
URL:https://ip.wsu.edu/event/chinese-conversation-table/2025-11-28/
LOCATION:CUB L38
CATEGORIES:International Center,Language Table
ORGANIZER;CN="International%20Center":MAILTO:ip.intlcenter@wsu.edu
END:VEVENT
BEGIN:VEVENT
DTSTART;TZID=America/Los_Angeles:20251128T150000
DTEND;TZID=America/Los_Angeles:20251128T160000
DTSTAMP:20260425T031742
CREATED:20250926T213621Z
LAST-MODIFIED:20260211T053944Z
UID:10005165-1764342000-1764345600@ip.wsu.edu
SUMMARY:Coffee Hour
DESCRIPTION:
URL:https://ip.wsu.edu/event/coffee-hour/2025-11-28/
LOCATION:CUB L46
CATEGORIES:Coffee Hour,International Center
ORGANIZER;CN="International%20Center":MAILTO:ip.intlcenter@wsu.edu
END:VEVENT
BEGIN:VEVENT
DTSTART;TZID=America/Los_Angeles:20251128T120000
DTEND;TZID=America/Los_Angeles:20251128T130000
DTSTAMP:20260425T031742
CREATED:20250926T213944Z
LAST-MODIFIED:20250929T234659Z
UID:10001315-1764331200-1764334800@ip.wsu.edu
SUMMARY:English Conversation Table
DESCRIPTION:
URL:https://ip.wsu.edu/event/english-conversation-table/2025-11-28/
LOCATION:CUB L46
CATEGORIES:International Center,Language Table
ORGANIZER;CN="International%20Center":MAILTO:ip.intlcenter@wsu.edu
END:VEVENT
BEGIN:VEVENT
DTSTART;TZID=America/Los_Angeles:20251127T120000
DTEND;TZID=America/Los_Angeles:20251127T130000
DTSTAMP:20260425T031742
CREATED:20250926T213944Z
LAST-MODIFIED:20250929T234659Z
UID:10004676-1764244800-1764248400@ip.wsu.edu
SUMMARY:English Conversation Table
DESCRIPTION:
URL:https://ip.wsu.edu/event/english-conversation-table/2025-11-27/
LOCATION:CUB L46
CATEGORIES:International Center,Language Table
ORGANIZER;CN="International%20Center":MAILTO:ip.intlcenter@wsu.edu
END:VEVENT
BEGIN:VEVENT
DTSTART;TZID=America/Los_Angeles:20251126T150000
DTEND;TZID=America/Los_Angeles:20251126T160000
DTSTAMP:20260425T031742
CREATED:20250926T215054Z
LAST-MODIFIED:20260206T220859Z
UID:10003106-1764169200-1764172800@ip.wsu.edu
SUMMARY:Korean Conversation Table
DESCRIPTION:
URL:https://ip.wsu.edu/event/korean-conversation-table/2025-11-26/
LOCATION:CUB L37
CATEGORIES:International Center,Language Table
ORGANIZER;CN="International%20Center":MAILTO:ip.intlcenter@wsu.edu
END:VEVENT
BEGIN:VEVENT
DTSTART;TZID=America/Los_Angeles:20251126T120000
DTEND;TZID=America/Los_Angeles:20251126T130000
DTSTAMP:20260425T031742
CREATED:20250926T213944Z
LAST-MODIFIED:20250929T234659Z
UID:10001313-1764158400-1764162000@ip.wsu.edu
SUMMARY:English Conversation Table
DESCRIPTION:
URL:https://ip.wsu.edu/event/english-conversation-table/2025-11-26/
LOCATION:CUB L46
CATEGORIES:International Center,Language Table
ORGANIZER;CN="International%20Center":MAILTO:ip.intlcenter@wsu.edu
END:VEVENT
BEGIN:VEVENT
DTSTART;TZID=America/Los_Angeles:20251125T133000
DTEND;TZID=America/Los_Angeles:20251125T143000
DTSTAMP:20260425T031742
CREATED:20250926T220529Z
LAST-MODIFIED:20260211T054103Z
UID:10005446-1764077400-1764081000@ip.wsu.edu
SUMMARY:Crafting Hour
DESCRIPTION:
URL:https://ip.wsu.edu/event/themed-crafting-hour/2025-11-25/
LOCATION:CUB L46
CATEGORIES:International Center
ORGANIZER;CN="International%20Center":MAILTO:ip.intlcenter@wsu.edu
END:VEVENT
BEGIN:VEVENT
DTSTART;TZID=America/Los_Angeles:20251125T120000
DTEND;TZID=America/Los_Angeles:20251125T130000
DTSTAMP:20260425T031742
CREATED:20250926T213944Z
LAST-MODIFIED:20250929T234659Z
UID:10001312-1764072000-1764075600@ip.wsu.edu
SUMMARY:English Conversation Table
DESCRIPTION:
URL:https://ip.wsu.edu/event/english-conversation-table/2025-11-25/
LOCATION:CUB L46
CATEGORIES:International Center,Language Table
ORGANIZER;CN="International%20Center":MAILTO:ip.intlcenter@wsu.edu
END:VEVENT
BEGIN:VEVENT
DTSTART;TZID=America/Los_Angeles:20251124T120000
DTEND;TZID=America/Los_Angeles:20251124T130000
DTSTAMP:20260425T031742
CREATED:20250926T213944Z
LAST-MODIFIED:20250929T234659Z
UID:10001311-1763985600-1763989200@ip.wsu.edu
SUMMARY:English Conversation Table
DESCRIPTION:
URL:https://ip.wsu.edu/event/english-conversation-table/2025-11-24/
LOCATION:CUB L46
CATEGORIES:International Center,Language Table
ORGANIZER;CN="International%20Center":MAILTO:ip.intlcenter@wsu.edu
END:VEVENT
BEGIN:VEVENT
DTSTART;TZID=America/Los_Angeles:20251121T153000
DTEND;TZID=America/Los_Angeles:20251121T173000
DTSTAMP:20260425T031742
CREATED:20250926T215937Z
LAST-MODIFIED:20260206T221428Z
UID:10003890-1763739000-1763746200@ip.wsu.edu
SUMMARY:Japanese Conversation Table
DESCRIPTION:
URL:https://ip.wsu.edu/event/japanese-conversation-table/2025-11-21/
LOCATION:CUB L37
CATEGORIES:International Center,Language Table
ORGANIZER;CN="International%20Center":MAILTO:ip.intlcenter@wsu.edu
END:VEVENT
BEGIN:VEVENT
DTSTART;TZID=America/Los_Angeles:20251121T150000
DTEND;TZID=America/Los_Angeles:20251121T163000
DTSTAMP:20260425T031742
CREATED:20250926T215725Z
LAST-MODIFIED:20260206T221438Z
UID:10003629-1763737200-1763742600@ip.wsu.edu
SUMMARY:Chinese Conversation Table
DESCRIPTION:
URL:https://ip.wsu.edu/event/chinese-conversation-table/2025-11-21/
LOCATION:CUB L38
CATEGORIES:International Center,Language Table
ORGANIZER;CN="International%20Center":MAILTO:ip.intlcenter@wsu.edu
END:VEVENT
BEGIN:VEVENT
DTSTART;TZID=America/Los_Angeles:20251121T150000
DTEND;TZID=America/Los_Angeles:20251121T160000
DTSTAMP:20260425T031742
CREATED:20250926T213621Z
LAST-MODIFIED:20260211T053944Z
UID:10005164-1763737200-1763740800@ip.wsu.edu
SUMMARY:Coffee Hour
DESCRIPTION:
URL:https://ip.wsu.edu/event/coffee-hour/2025-11-21/
LOCATION:CUB L46
CATEGORIES:Coffee Hour,International Center
ORGANIZER;CN="International%20Center":MAILTO:ip.intlcenter@wsu.edu
END:VEVENT
BEGIN:VEVENT
DTSTART;TZID=America/Los_Angeles:20251121T120000
DTEND;TZID=America/Los_Angeles:20251121T130000
DTSTAMP:20260425T031742
CREATED:20250926T213944Z
LAST-MODIFIED:20250929T234659Z
UID:10001310-1763726400-1763730000@ip.wsu.edu
SUMMARY:English Conversation Table
DESCRIPTION:
URL:https://ip.wsu.edu/event/english-conversation-table/2025-11-21/
LOCATION:CUB L46
CATEGORIES:International Center,Language Table
ORGANIZER;CN="International%20Center":MAILTO:ip.intlcenter@wsu.edu
END:VEVENT
BEGIN:VEVENT
DTSTART;TZID=America/Los_Angeles:20251120T120000
DTEND;TZID=America/Los_Angeles:20251120T130000
DTSTAMP:20260425T031742
CREATED:20250926T213944Z
LAST-MODIFIED:20250929T234659Z
UID:10004675-1763640000-1763643600@ip.wsu.edu
SUMMARY:English Conversation Table
DESCRIPTION:
URL:https://ip.wsu.edu/event/english-conversation-table/2025-11-20/
LOCATION:CUB L46
CATEGORIES:International Center,Language Table
ORGANIZER;CN="International%20Center":MAILTO:ip.intlcenter@wsu.edu
END:VEVENT
BEGIN:VEVENT
DTSTART;TZID=America/Los_Angeles:20251119T160000
DTEND;TZID=America/Los_Angeles:20251119T170000
DTSTAMP:20260425T031742
CREATED:20251030T171622Z
LAST-MODIFIED:20251030T171622Z
UID:10004929-1763568000-1763571600@ip.wsu.edu
SUMMARY:Study Abroad Scholarship Application Launch
DESCRIPTION:Learn the nuts and bolts of preparing a competitive study abroad scholarship application. \nBy the end of this session\, you should understand basic strategies for successfully requesting funding\, and how you can use these strategies to write a competitive scholarship essay. \nIt is strongly encouraged to complete the online tutorial Global Cougs 101 before this session\, and to have seriously considered at least one study abroad program available through mystudyabroad.wsu.edu. \nThe upcoming scholarship application cycle is primarily for Spring/Spring Break 2027\, Winter Break 2026\, Fall 2026\, Summer 2026 terms abroad\, but the material covered will apply for later terms as well. \nThose interested can register via MS Bookings link and receive an invitation by email. \nDate: November 19th 4-5:00 p.m. via Zoom.
URL:https://ip.wsu.edu/event/study-abroad-scholarship-application-launch/
LOCATION:Zoom
CATEGORIES:Education Abroad,Study Abroad Scholarship Workshop Series
END:VEVENT
BEGIN:VEVENT
DTSTART;TZID=America/Los_Angeles:20251119T150000
DTEND;TZID=America/Los_Angeles:20251119T160000
DTSTAMP:20260425T031742
CREATED:20250926T215054Z
LAST-MODIFIED:20260206T220859Z
UID:10003105-1763564400-1763568000@ip.wsu.edu
SUMMARY:Korean Conversation Table
DESCRIPTION:
URL:https://ip.wsu.edu/event/korean-conversation-table/2025-11-19/
LOCATION:CUB L37
CATEGORIES:International Center,Language Table
ORGANIZER;CN="International%20Center":MAILTO:ip.intlcenter@wsu.edu
END:VEVENT
BEGIN:VEVENT
DTSTART;TZID=America/Los_Angeles:20251119T120000
DTEND;TZID=America/Los_Angeles:20251119T130000
DTSTAMP:20260425T031742
CREATED:20250926T213944Z
LAST-MODIFIED:20250929T234659Z
UID:10001308-1763553600-1763557200@ip.wsu.edu
SUMMARY:English Conversation Table
DESCRIPTION:
URL:https://ip.wsu.edu/event/english-conversation-table/2025-11-19/
LOCATION:CUB L46
CATEGORIES:International Center,Language Table
ORGANIZER;CN="International%20Center":MAILTO:ip.intlcenter@wsu.edu
END:VEVENT
BEGIN:VEVENT
DTSTART;TZID=America/Los_Angeles:20251118T133000
DTEND;TZID=America/Los_Angeles:20251118T143000
DTSTAMP:20260425T031742
CREATED:20250926T220529Z
LAST-MODIFIED:20260211T054103Z
UID:10005445-1763472600-1763476200@ip.wsu.edu
SUMMARY:Crafting Hour
DESCRIPTION:
URL:https://ip.wsu.edu/event/themed-crafting-hour/2025-11-18/
LOCATION:CUB L46
CATEGORIES:International Center
ORGANIZER;CN="International%20Center":MAILTO:ip.intlcenter@wsu.edu
END:VEVENT
BEGIN:VEVENT
DTSTART;TZID=America/Los_Angeles:20251118T120000
DTEND;TZID=America/Los_Angeles:20251118T130000
DTSTAMP:20260425T031742
CREATED:20250926T213944Z
LAST-MODIFIED:20250929T234659Z
UID:10001307-1763467200-1763470800@ip.wsu.edu
SUMMARY:English Conversation Table
DESCRIPTION:
URL:https://ip.wsu.edu/event/english-conversation-table/2025-11-18/
LOCATION:CUB L46
CATEGORIES:International Center,Language Table
ORGANIZER;CN="International%20Center":MAILTO:ip.intlcenter@wsu.edu
END:VEVENT
END:VCALENDAR