BEGIN:VCALENDAR
VERSION:2.0
PRODID:-//WSU International - ECPv6.1.3//NONSGML v1.0//EN
CALSCALE:GREGORIAN
METHOD:PUBLISH
X-WR-CALNAME:WSU International
X-ORIGINAL-URL:https://ip.wsu.edu
X-WR-CALDESC:Events for WSU International
REFRESH-INTERVAL;VALUE=DURATION:PT1H
X-Robots-Tag:noindex
X-PUBLISHED-TTL:PT1H
BEGIN:VTIMEZONE
TZID:America/Los_Angeles
BEGIN:DAYLIGHT
TZOFFSETFROM:-0800
TZOFFSETTO:-0700
TZNAME:PDT
DTSTART:20250309T100000
END:DAYLIGHT
BEGIN:STANDARD
TZOFFSETFROM:-0700
TZOFFSETTO:-0800
TZNAME:PST
DTSTART:20251102T090000
END:STANDARD
END:VTIMEZONE
BEGIN:VEVENT
DTSTART;TZID=America/Los_Angeles:20251219T153000
DTEND;TZID=America/Los_Angeles:20251219T173000
DTSTAMP:20260423T121318
CREATED:20250926T215937Z
LAST-MODIFIED:20260206T221428Z
UID:10003894-1766158200-1766165400@ip.wsu.edu
SUMMARY:Japanese Conversation Table
DESCRIPTION:
URL:https://ip.wsu.edu/event/japanese-conversation-table/2025-12-19/
LOCATION:CUB L37
CATEGORIES:International Center,Language Table
ORGANIZER;CN="International%20Center":MAILTO:ip.intlcenter@wsu.edu
END:VEVENT
BEGIN:VEVENT
DTSTART;TZID=America/Los_Angeles:20251219T150000
DTEND;TZID=America/Los_Angeles:20251219T163000
DTSTAMP:20260423T121318
CREATED:20250926T215725Z
LAST-MODIFIED:20260206T221438Z
UID:10003633-1766156400-1766161800@ip.wsu.edu
SUMMARY:Chinese Conversation Table
DESCRIPTION:
URL:https://ip.wsu.edu/event/chinese-conversation-table/2025-12-19/
LOCATION:CUB L38
CATEGORIES:International Center,Language Table
ORGANIZER;CN="International%20Center":MAILTO:ip.intlcenter@wsu.edu
END:VEVENT
BEGIN:VEVENT
DTSTART;TZID=America/Los_Angeles:20251219T150000
DTEND;TZID=America/Los_Angeles:20251219T160000
DTSTAMP:20260423T121318
CREATED:20250926T213621Z
LAST-MODIFIED:20260211T053944Z
UID:10005168-1766156400-1766160000@ip.wsu.edu
SUMMARY:Coffee Hour
DESCRIPTION:
URL:https://ip.wsu.edu/event/coffee-hour/2025-12-19/
LOCATION:CUB L46
CATEGORIES:Coffee Hour,International Center
ORGANIZER;CN="International%20Center":MAILTO:ip.intlcenter@wsu.edu
END:VEVENT
BEGIN:VEVENT
DTSTART;TZID=America/Los_Angeles:20251219T120000
DTEND;TZID=America/Los_Angeles:20251219T130000
DTSTAMP:20260423T121318
CREATED:20250926T213944Z
LAST-MODIFIED:20250929T234659Z
UID:10001330-1766145600-1766149200@ip.wsu.edu
SUMMARY:English Conversation Table
DESCRIPTION:
URL:https://ip.wsu.edu/event/english-conversation-table/2025-12-19/
LOCATION:CUB L46
CATEGORIES:International Center,Language Table
ORGANIZER;CN="International%20Center":MAILTO:ip.intlcenter@wsu.edu
END:VEVENT
BEGIN:VEVENT
DTSTART;TZID=America/Los_Angeles:20251218T120000
DTEND;TZID=America/Los_Angeles:20251218T130000
DTSTAMP:20260423T121318
CREATED:20250926T213944Z
LAST-MODIFIED:20250929T234659Z
UID:10004679-1766059200-1766062800@ip.wsu.edu
SUMMARY:English Conversation Table
DESCRIPTION:
URL:https://ip.wsu.edu/event/english-conversation-table/2025-12-18/
LOCATION:CUB L46
CATEGORIES:International Center,Language Table
ORGANIZER;CN="International%20Center":MAILTO:ip.intlcenter@wsu.edu
END:VEVENT
BEGIN:VEVENT
DTSTART;TZID=America/Los_Angeles:20251217T150000
DTEND;TZID=America/Los_Angeles:20251217T160000
DTSTAMP:20260423T121318
CREATED:20250926T215054Z
LAST-MODIFIED:20260206T220859Z
UID:10003109-1765983600-1765987200@ip.wsu.edu
SUMMARY:Korean Conversation Table
DESCRIPTION:
URL:https://ip.wsu.edu/event/korean-conversation-table/2025-12-17/
LOCATION:CUB L37
CATEGORIES:International Center,Language Table
ORGANIZER;CN="International%20Center":MAILTO:ip.intlcenter@wsu.edu
END:VEVENT
BEGIN:VEVENT
DTSTART;TZID=America/Los_Angeles:20251217T120000
DTEND;TZID=America/Los_Angeles:20251217T130000
DTSTAMP:20260423T121318
CREATED:20250926T213944Z
LAST-MODIFIED:20250929T234659Z
UID:10001328-1765972800-1765976400@ip.wsu.edu
SUMMARY:English Conversation Table
DESCRIPTION:
URL:https://ip.wsu.edu/event/english-conversation-table/2025-12-17/
LOCATION:CUB L46
CATEGORIES:International Center,Language Table
ORGANIZER;CN="International%20Center":MAILTO:ip.intlcenter@wsu.edu
END:VEVENT
BEGIN:VEVENT
DTSTART;TZID=America/Los_Angeles:20251216T133000
DTEND;TZID=America/Los_Angeles:20251216T143000
DTSTAMP:20260423T121318
CREATED:20250926T220529Z
LAST-MODIFIED:20260211T054103Z
UID:10005449-1765891800-1765895400@ip.wsu.edu
SUMMARY:Crafting Hour
DESCRIPTION:
URL:https://ip.wsu.edu/event/themed-crafting-hour/2025-12-16/
LOCATION:CUB L46
CATEGORIES:International Center
ORGANIZER;CN="International%20Center":MAILTO:ip.intlcenter@wsu.edu
END:VEVENT
BEGIN:VEVENT
DTSTART;TZID=America/Los_Angeles:20251216T120000
DTEND;TZID=America/Los_Angeles:20251216T130000
DTSTAMP:20260423T121318
CREATED:20250926T213944Z
LAST-MODIFIED:20250929T234659Z
UID:10001327-1765886400-1765890000@ip.wsu.edu
SUMMARY:English Conversation Table
DESCRIPTION:
URL:https://ip.wsu.edu/event/english-conversation-table/2025-12-16/
LOCATION:CUB L46
CATEGORIES:International Center,Language Table
ORGANIZER;CN="International%20Center":MAILTO:ip.intlcenter@wsu.edu
END:VEVENT
BEGIN:VEVENT
DTSTART;TZID=America/Los_Angeles:20251215T120000
DTEND;TZID=America/Los_Angeles:20251215T130000
DTSTAMP:20260423T121318
CREATED:20250926T213944Z
LAST-MODIFIED:20250929T234659Z
UID:10001326-1765800000-1765803600@ip.wsu.edu
SUMMARY:English Conversation Table
DESCRIPTION:
URL:https://ip.wsu.edu/event/english-conversation-table/2025-12-15/
LOCATION:CUB L46
CATEGORIES:International Center,Language Table
ORGANIZER;CN="International%20Center":MAILTO:ip.intlcenter@wsu.edu
END:VEVENT
BEGIN:VEVENT
DTSTART;TZID=America/Los_Angeles:20251212T153000
DTEND;TZID=America/Los_Angeles:20251212T173000
DTSTAMP:20260423T121318
CREATED:20250926T215937Z
LAST-MODIFIED:20260206T221428Z
UID:10003893-1765553400-1765560600@ip.wsu.edu
SUMMARY:Japanese Conversation Table
DESCRIPTION:
URL:https://ip.wsu.edu/event/japanese-conversation-table/2025-12-12/
LOCATION:CUB L37
CATEGORIES:International Center,Language Table
ORGANIZER;CN="International%20Center":MAILTO:ip.intlcenter@wsu.edu
END:VEVENT
BEGIN:VEVENT
DTSTART;TZID=America/Los_Angeles:20251212T150000
DTEND;TZID=America/Los_Angeles:20251212T163000
DTSTAMP:20260423T121318
CREATED:20250926T215725Z
LAST-MODIFIED:20260206T221438Z
UID:10003632-1765551600-1765557000@ip.wsu.edu
SUMMARY:Chinese Conversation Table
DESCRIPTION:
URL:https://ip.wsu.edu/event/chinese-conversation-table/2025-12-12/
LOCATION:CUB L38
CATEGORIES:International Center,Language Table
ORGANIZER;CN="International%20Center":MAILTO:ip.intlcenter@wsu.edu
END:VEVENT
BEGIN:VEVENT
DTSTART;TZID=America/Los_Angeles:20251212T150000
DTEND;TZID=America/Los_Angeles:20251212T160000
DTSTAMP:20260423T121318
CREATED:20250926T213621Z
LAST-MODIFIED:20260211T053944Z
UID:10005167-1765551600-1765555200@ip.wsu.edu
SUMMARY:Coffee Hour
DESCRIPTION:
URL:https://ip.wsu.edu/event/coffee-hour/2025-12-12/
LOCATION:CUB L46
CATEGORIES:Coffee Hour,International Center
ORGANIZER;CN="International%20Center":MAILTO:ip.intlcenter@wsu.edu
END:VEVENT
BEGIN:VEVENT
DTSTART;TZID=America/Los_Angeles:20251212T120000
DTEND;TZID=America/Los_Angeles:20251212T130000
DTSTAMP:20260423T121318
CREATED:20250926T213944Z
LAST-MODIFIED:20250929T234659Z
UID:10001325-1765540800-1765544400@ip.wsu.edu
SUMMARY:English Conversation Table
DESCRIPTION:
URL:https://ip.wsu.edu/event/english-conversation-table/2025-12-12/
LOCATION:CUB L46
CATEGORIES:International Center,Language Table
ORGANIZER;CN="International%20Center":MAILTO:ip.intlcenter@wsu.edu
END:VEVENT
BEGIN:VEVENT
DTSTART;TZID=America/Los_Angeles:20251211T120000
DTEND;TZID=America/Los_Angeles:20251211T130000
DTSTAMP:20260423T121318
CREATED:20250926T213944Z
LAST-MODIFIED:20250929T234659Z
UID:10004678-1765454400-1765458000@ip.wsu.edu
SUMMARY:English Conversation Table
DESCRIPTION:
URL:https://ip.wsu.edu/event/english-conversation-table/2025-12-11/
LOCATION:CUB L46
CATEGORIES:International Center,Language Table
ORGANIZER;CN="International%20Center":MAILTO:ip.intlcenter@wsu.edu
END:VEVENT
BEGIN:VEVENT
DTSTART;TZID=America/Los_Angeles:20251210T150000
DTEND;TZID=America/Los_Angeles:20251210T160000
DTSTAMP:20260423T121318
CREATED:20250926T215054Z
LAST-MODIFIED:20260206T220859Z
UID:10003108-1765378800-1765382400@ip.wsu.edu
SUMMARY:Korean Conversation Table
DESCRIPTION:
URL:https://ip.wsu.edu/event/korean-conversation-table/2025-12-10/
LOCATION:CUB L37
CATEGORIES:International Center,Language Table
ORGANIZER;CN="International%20Center":MAILTO:ip.intlcenter@wsu.edu
END:VEVENT
BEGIN:VEVENT
DTSTART;TZID=America/Los_Angeles:20251210T120000
DTEND;TZID=America/Los_Angeles:20251210T130000
DTSTAMP:20260423T121318
CREATED:20250926T213944Z
LAST-MODIFIED:20250929T234659Z
UID:10001323-1765368000-1765371600@ip.wsu.edu
SUMMARY:English Conversation Table
DESCRIPTION:
URL:https://ip.wsu.edu/event/english-conversation-table/2025-12-10/
LOCATION:CUB L46
CATEGORIES:International Center,Language Table
ORGANIZER;CN="International%20Center":MAILTO:ip.intlcenter@wsu.edu
END:VEVENT
BEGIN:VEVENT
DTSTART;TZID=America/Los_Angeles:20251209T133000
DTEND;TZID=America/Los_Angeles:20251209T143000
DTSTAMP:20260423T121318
CREATED:20250926T220529Z
LAST-MODIFIED:20260211T054103Z
UID:10005448-1765287000-1765290600@ip.wsu.edu
SUMMARY:Crafting Hour
DESCRIPTION:
URL:https://ip.wsu.edu/event/themed-crafting-hour/2025-12-09/
LOCATION:CUB L46
CATEGORIES:International Center
ORGANIZER;CN="International%20Center":MAILTO:ip.intlcenter@wsu.edu
END:VEVENT
BEGIN:VEVENT
DTSTART;TZID=America/Los_Angeles:20251209T120000
DTEND;TZID=America/Los_Angeles:20251209T130000
DTSTAMP:20260423T121318
CREATED:20250926T213944Z
LAST-MODIFIED:20250929T234659Z
UID:10001322-1765281600-1765285200@ip.wsu.edu
SUMMARY:English Conversation Table
DESCRIPTION:
URL:https://ip.wsu.edu/event/english-conversation-table/2025-12-09/
LOCATION:CUB L46
CATEGORIES:International Center,Language Table
ORGANIZER;CN="International%20Center":MAILTO:ip.intlcenter@wsu.edu
END:VEVENT
BEGIN:VEVENT
DTSTART;TZID=America/Los_Angeles:20251208T120000
DTEND;TZID=America/Los_Angeles:20251208T130000
DTSTAMP:20260423T121318
CREATED:20250926T213944Z
LAST-MODIFIED:20250929T234659Z
UID:10001321-1765195200-1765198800@ip.wsu.edu
SUMMARY:English Conversation Table
DESCRIPTION:
URL:https://ip.wsu.edu/event/english-conversation-table/2025-12-08/
LOCATION:CUB L46
CATEGORIES:International Center,Language Table
ORGANIZER;CN="International%20Center":MAILTO:ip.intlcenter@wsu.edu
END:VEVENT
BEGIN:VEVENT
DTSTART;TZID=America/Los_Angeles:20251205T153000
DTEND;TZID=America/Los_Angeles:20251205T173000
DTSTAMP:20260423T121318
CREATED:20250926T215937Z
LAST-MODIFIED:20260206T221428Z
UID:10003892-1764948600-1764955800@ip.wsu.edu
SUMMARY:Japanese Conversation Table
DESCRIPTION:
URL:https://ip.wsu.edu/event/japanese-conversation-table/2025-12-05/
LOCATION:CUB L37
CATEGORIES:International Center,Language Table
ORGANIZER;CN="International%20Center":MAILTO:ip.intlcenter@wsu.edu
END:VEVENT
BEGIN:VEVENT
DTSTART;TZID=America/Los_Angeles:20251205T150000
DTEND;TZID=America/Los_Angeles:20251205T163000
DTSTAMP:20260423T121318
CREATED:20250926T215725Z
LAST-MODIFIED:20260206T221438Z
UID:10003631-1764946800-1764952200@ip.wsu.edu
SUMMARY:Chinese Conversation Table
DESCRIPTION:
URL:https://ip.wsu.edu/event/chinese-conversation-table/2025-12-05/
LOCATION:CUB L38
CATEGORIES:International Center,Language Table
ORGANIZER;CN="International%20Center":MAILTO:ip.intlcenter@wsu.edu
END:VEVENT
BEGIN:VEVENT
DTSTART;TZID=America/Los_Angeles:20251205T150000
DTEND;TZID=America/Los_Angeles:20251205T160000
DTSTAMP:20260423T121318
CREATED:20250926T213621Z
LAST-MODIFIED:20260211T053944Z
UID:10005166-1764946800-1764950400@ip.wsu.edu
SUMMARY:Coffee Hour
DESCRIPTION:
URL:https://ip.wsu.edu/event/coffee-hour/2025-12-05/
LOCATION:CUB L46
CATEGORIES:Coffee Hour,International Center
ORGANIZER;CN="International%20Center":MAILTO:ip.intlcenter@wsu.edu
END:VEVENT
BEGIN:VEVENT
DTSTART;TZID=America/Los_Angeles:20251205T120000
DTEND;TZID=America/Los_Angeles:20251205T130000
DTSTAMP:20260423T121318
CREATED:20250926T213944Z
LAST-MODIFIED:20250929T234659Z
UID:10001320-1764936000-1764939600@ip.wsu.edu
SUMMARY:English Conversation Table
DESCRIPTION:
URL:https://ip.wsu.edu/event/english-conversation-table/2025-12-05/
LOCATION:CUB L46
CATEGORIES:International Center,Language Table
ORGANIZER;CN="International%20Center":MAILTO:ip.intlcenter@wsu.edu
END:VEVENT
BEGIN:VEVENT
DTSTART;TZID=America/Los_Angeles:20251204T120000
DTEND;TZID=America/Los_Angeles:20251204T130000
DTSTAMP:20260423T121318
CREATED:20250926T213944Z
LAST-MODIFIED:20250929T234659Z
UID:10004677-1764849600-1764853200@ip.wsu.edu
SUMMARY:English Conversation Table
DESCRIPTION:
URL:https://ip.wsu.edu/event/english-conversation-table/2025-12-04/
LOCATION:CUB L46
CATEGORIES:International Center,Language Table
ORGANIZER;CN="International%20Center":MAILTO:ip.intlcenter@wsu.edu
END:VEVENT
BEGIN:VEVENT
DTSTART;TZID=America/Los_Angeles:20251203T150000
DTEND;TZID=America/Los_Angeles:20251203T160000
DTSTAMP:20260423T121318
CREATED:20250926T215054Z
LAST-MODIFIED:20260206T220859Z
UID:10003107-1764774000-1764777600@ip.wsu.edu
SUMMARY:Korean Conversation Table
DESCRIPTION:
URL:https://ip.wsu.edu/event/korean-conversation-table/2025-12-03/
LOCATION:CUB L37
CATEGORIES:International Center,Language Table
ORGANIZER;CN="International%20Center":MAILTO:ip.intlcenter@wsu.edu
END:VEVENT
BEGIN:VEVENT
DTSTART;TZID=America/Los_Angeles:20251203T120000
DTEND;TZID=America/Los_Angeles:20251203T130000
DTSTAMP:20260423T121318
CREATED:20250926T213944Z
LAST-MODIFIED:20250929T234659Z
UID:10001318-1764763200-1764766800@ip.wsu.edu
SUMMARY:English Conversation Table
DESCRIPTION:
URL:https://ip.wsu.edu/event/english-conversation-table/2025-12-03/
LOCATION:CUB L46
CATEGORIES:International Center,Language Table
ORGANIZER;CN="International%20Center":MAILTO:ip.intlcenter@wsu.edu
END:VEVENT
BEGIN:VEVENT
DTSTART;TZID=America/Los_Angeles:20251202T133000
DTEND;TZID=America/Los_Angeles:20251202T143000
DTSTAMP:20260423T121318
CREATED:20250926T220529Z
LAST-MODIFIED:20260211T054103Z
UID:10005447-1764682200-1764685800@ip.wsu.edu
SUMMARY:Crafting Hour
DESCRIPTION:
URL:https://ip.wsu.edu/event/themed-crafting-hour/2025-12-02/
LOCATION:CUB L46
CATEGORIES:International Center
ORGANIZER;CN="International%20Center":MAILTO:ip.intlcenter@wsu.edu
END:VEVENT
BEGIN:VEVENT
DTSTART;TZID=America/Los_Angeles:20251202T120000
DTEND;TZID=America/Los_Angeles:20251202T130000
DTSTAMP:20260423T121318
CREATED:20250926T213944Z
LAST-MODIFIED:20250929T234659Z
UID:10001317-1764676800-1764680400@ip.wsu.edu
SUMMARY:English Conversation Table
DESCRIPTION:
URL:https://ip.wsu.edu/event/english-conversation-table/2025-12-02/
LOCATION:CUB L46
CATEGORIES:International Center,Language Table
ORGANIZER;CN="International%20Center":MAILTO:ip.intlcenter@wsu.edu
END:VEVENT
BEGIN:VEVENT
DTSTART;TZID=America/Los_Angeles:20251201T120000
DTEND;TZID=America/Los_Angeles:20251201T130000
DTSTAMP:20260423T121318
CREATED:20250926T213944Z
LAST-MODIFIED:20250929T234659Z
UID:10001316-1764590400-1764594000@ip.wsu.edu
SUMMARY:English Conversation Table
DESCRIPTION:
URL:https://ip.wsu.edu/event/english-conversation-table/2025-12-01/
LOCATION:CUB L46
CATEGORIES:International Center,Language Table
ORGANIZER;CN="International%20Center":MAILTO:ip.intlcenter@wsu.edu
END:VEVENT
END:VCALENDAR