BEGIN:VCALENDAR
VERSION:2.0
PRODID:-//WSU International - ECPv6.1.3//NONSGML v1.0//EN
CALSCALE:GREGORIAN
METHOD:PUBLISH
X-WR-CALNAME:WSU International
X-ORIGINAL-URL:https://ip.wsu.edu
X-WR-CALDESC:Events for WSU International
REFRESH-INTERVAL;VALUE=DURATION:PT1H
X-Robots-Tag:noindex
X-PUBLISHED-TTL:PT1H
BEGIN:VTIMEZONE
TZID:America/Los_Angeles
BEGIN:DAYLIGHT
TZOFFSETFROM:-0800
TZOFFSETTO:-0700
TZNAME:PDT
DTSTART:20250309T100000
END:DAYLIGHT
BEGIN:STANDARD
TZOFFSETFROM:-0700
TZOFFSETTO:-0800
TZNAME:PST
DTSTART:20251102T090000
END:STANDARD
END:VTIMEZONE
BEGIN:VEVENT
DTSTART;TZID=America/Los_Angeles:20251003T120000
DTEND;TZID=America/Los_Angeles:20251003T130000
DTSTAMP:20260422T220750
CREATED:20250926T213944Z
LAST-MODIFIED:20250929T234659Z
UID:10001275-1759492800-1759496400@ip.wsu.edu
SUMMARY:English Conversation Table
DESCRIPTION:
URL:https://ip.wsu.edu/event/english-conversation-table/2025-10-03/
LOCATION:CUB L46
CATEGORIES:International Center,Language Table
ORGANIZER;CN="International%20Center":MAILTO:ip.intlcenter@wsu.edu
END:VEVENT
BEGIN:VEVENT
DTSTART;TZID=America/Los_Angeles:20251003T150000
DTEND;TZID=America/Los_Angeles:20251003T160000
DTSTAMP:20260422T220750
CREATED:20250926T213621Z
LAST-MODIFIED:20260211T053944Z
UID:10005157-1759503600-1759507200@ip.wsu.edu
SUMMARY:Coffee Hour
DESCRIPTION:
URL:https://ip.wsu.edu/event/coffee-hour/2025-10-03/
LOCATION:CUB L46
CATEGORIES:Coffee Hour,International Center
ORGANIZER;CN="International%20Center":MAILTO:ip.intlcenter@wsu.edu
END:VEVENT
BEGIN:VEVENT
DTSTART;TZID=America/Los_Angeles:20251003T150000
DTEND;TZID=America/Los_Angeles:20251003T163000
DTSTAMP:20260422T220750
CREATED:20250926T215725Z
LAST-MODIFIED:20260206T221438Z
UID:10003622-1759503600-1759509000@ip.wsu.edu
SUMMARY:Chinese Conversation Table
DESCRIPTION:
URL:https://ip.wsu.edu/event/chinese-conversation-table/2025-10-03/
LOCATION:CUB L38
CATEGORIES:International Center,Language Table
ORGANIZER;CN="International%20Center":MAILTO:ip.intlcenter@wsu.edu
END:VEVENT
BEGIN:VEVENT
DTSTART;TZID=America/Los_Angeles:20251003T153000
DTEND;TZID=America/Los_Angeles:20251003T173000
DTSTAMP:20260422T220751
CREATED:20250926T215937Z
LAST-MODIFIED:20260206T221428Z
UID:10003883-1759505400-1759512600@ip.wsu.edu
SUMMARY:Japanese Conversation Table
DESCRIPTION:
URL:https://ip.wsu.edu/event/japanese-conversation-table/2025-10-03/
LOCATION:CUB L37
CATEGORIES:International Center,Language Table
ORGANIZER;CN="International%20Center":MAILTO:ip.intlcenter@wsu.edu
END:VEVENT
BEGIN:VEVENT
DTSTART;TZID=America/Los_Angeles:20251006T120000
DTEND;TZID=America/Los_Angeles:20251006T130000
DTSTAMP:20260422T220751
CREATED:20250926T213944Z
LAST-MODIFIED:20250929T234659Z
UID:10001276-1759752000-1759755600@ip.wsu.edu
SUMMARY:English Conversation Table
DESCRIPTION:
URL:https://ip.wsu.edu/event/english-conversation-table/2025-10-06/
LOCATION:CUB L46
CATEGORIES:International Center,Language Table
ORGANIZER;CN="International%20Center":MAILTO:ip.intlcenter@wsu.edu
END:VEVENT
BEGIN:VEVENT
DTSTART;TZID=America/Los_Angeles:20251007T120000
DTEND;TZID=America/Los_Angeles:20251007T130000
DTSTAMP:20260422T220751
CREATED:20250926T213944Z
LAST-MODIFIED:20250929T234659Z
UID:10001277-1759838400-1759842000@ip.wsu.edu
SUMMARY:English Conversation Table
DESCRIPTION:
URL:https://ip.wsu.edu/event/english-conversation-table/2025-10-07/
LOCATION:CUB L46
CATEGORIES:International Center,Language Table
ORGANIZER;CN="International%20Center":MAILTO:ip.intlcenter@wsu.edu
END:VEVENT
BEGIN:VEVENT
DTSTART;TZID=America/Los_Angeles:20251007T133000
DTEND;TZID=America/Los_Angeles:20251007T143000
DTSTAMP:20260422T220751
CREATED:20250926T220529Z
LAST-MODIFIED:20260211T054103Z
UID:10005439-1759843800-1759847400@ip.wsu.edu
SUMMARY:Crafting Hour
DESCRIPTION:
URL:https://ip.wsu.edu/event/themed-crafting-hour/2025-10-07/
LOCATION:CUB L46
CATEGORIES:International Center
ORGANIZER;CN="International%20Center":MAILTO:ip.intlcenter@wsu.edu
END:VEVENT
BEGIN:VEVENT
DTSTART;TZID=America/Los_Angeles:20251008T120000
DTEND;TZID=America/Los_Angeles:20251008T130000
DTSTAMP:20260422T220751
CREATED:20250926T213944Z
LAST-MODIFIED:20250929T234659Z
UID:10001278-1759924800-1759928400@ip.wsu.edu
SUMMARY:English Conversation Table
DESCRIPTION:
URL:https://ip.wsu.edu/event/english-conversation-table/2025-10-08/
LOCATION:CUB L46
CATEGORIES:International Center,Language Table
ORGANIZER;CN="International%20Center":MAILTO:ip.intlcenter@wsu.edu
END:VEVENT
BEGIN:VEVENT
DTSTART;TZID=America/Los_Angeles:20251008T150000
DTEND;TZID=America/Los_Angeles:20251008T160000
DTSTAMP:20260422T220751
CREATED:20250926T215054Z
LAST-MODIFIED:20260206T220859Z
UID:10003099-1759935600-1759939200@ip.wsu.edu
SUMMARY:Korean Conversation Table
DESCRIPTION:
URL:https://ip.wsu.edu/event/korean-conversation-table/2025-10-08/
LOCATION:CUB L37
CATEGORIES:International Center,Language Table
ORGANIZER;CN="International%20Center":MAILTO:ip.intlcenter@wsu.edu
END:VEVENT
BEGIN:VEVENT
DTSTART;TZID=America/Los_Angeles:20251009T120000
DTEND;TZID=America/Los_Angeles:20251009T130000
DTSTAMP:20260422T220751
CREATED:20250926T213944Z
LAST-MODIFIED:20250929T234659Z
UID:10004669-1760011200-1760014800@ip.wsu.edu
SUMMARY:English Conversation Table
DESCRIPTION:
URL:https://ip.wsu.edu/event/english-conversation-table/2025-10-09/
LOCATION:CUB L46
CATEGORIES:International Center,Language Table
ORGANIZER;CN="International%20Center":MAILTO:ip.intlcenter@wsu.edu
END:VEVENT
BEGIN:VEVENT
DTSTART;TZID=America/Los_Angeles:20251010T120000
DTEND;TZID=America/Los_Angeles:20251010T130000
DTSTAMP:20260422T220751
CREATED:20250926T213944Z
LAST-MODIFIED:20250929T234659Z
UID:10001280-1760097600-1760101200@ip.wsu.edu
SUMMARY:English Conversation Table
DESCRIPTION:
URL:https://ip.wsu.edu/event/english-conversation-table/2025-10-10/
LOCATION:CUB L46
CATEGORIES:International Center,Language Table
ORGANIZER;CN="International%20Center":MAILTO:ip.intlcenter@wsu.edu
END:VEVENT
BEGIN:VEVENT
DTSTART;TZID=America/Los_Angeles:20251010T150000
DTEND;TZID=America/Los_Angeles:20251010T160000
DTSTAMP:20260422T220751
CREATED:20250926T213621Z
LAST-MODIFIED:20260211T053944Z
UID:10005158-1760108400-1760112000@ip.wsu.edu
SUMMARY:Coffee Hour
DESCRIPTION:
URL:https://ip.wsu.edu/event/coffee-hour/2025-10-10/
LOCATION:CUB L46
CATEGORIES:Coffee Hour,International Center
ORGANIZER;CN="International%20Center":MAILTO:ip.intlcenter@wsu.edu
END:VEVENT
BEGIN:VEVENT
DTSTART;TZID=America/Los_Angeles:20251010T150000
DTEND;TZID=America/Los_Angeles:20251010T163000
DTSTAMP:20260422T220751
CREATED:20250926T215725Z
LAST-MODIFIED:20260206T221438Z
UID:10003623-1760108400-1760113800@ip.wsu.edu
SUMMARY:Chinese Conversation Table
DESCRIPTION:
URL:https://ip.wsu.edu/event/chinese-conversation-table/2025-10-10/
LOCATION:CUB L38
CATEGORIES:International Center,Language Table
ORGANIZER;CN="International%20Center":MAILTO:ip.intlcenter@wsu.edu
END:VEVENT
BEGIN:VEVENT
DTSTART;TZID=America/Los_Angeles:20251010T153000
DTEND;TZID=America/Los_Angeles:20251010T173000
DTSTAMP:20260422T220751
CREATED:20250926T215937Z
LAST-MODIFIED:20260206T221428Z
UID:10003884-1760110200-1760117400@ip.wsu.edu
SUMMARY:Japanese Conversation Table
DESCRIPTION:
URL:https://ip.wsu.edu/event/japanese-conversation-table/2025-10-10/
LOCATION:CUB L37
CATEGORIES:International Center,Language Table
ORGANIZER;CN="International%20Center":MAILTO:ip.intlcenter@wsu.edu
END:VEVENT
BEGIN:VEVENT
DTSTART;TZID=America/Los_Angeles:20251013T120000
DTEND;TZID=America/Los_Angeles:20251013T130000
DTSTAMP:20260422T220751
CREATED:20250926T213944Z
LAST-MODIFIED:20250929T234659Z
UID:10001281-1760356800-1760360400@ip.wsu.edu
SUMMARY:English Conversation Table
DESCRIPTION:
URL:https://ip.wsu.edu/event/english-conversation-table/2025-10-13/
LOCATION:CUB L46
CATEGORIES:International Center,Language Table
ORGANIZER;CN="International%20Center":MAILTO:ip.intlcenter@wsu.edu
END:VEVENT
BEGIN:VEVENT
DTSTART;TZID=America/Los_Angeles:20251014T120000
DTEND;TZID=America/Los_Angeles:20251014T130000
DTSTAMP:20260422T220751
CREATED:20250926T213944Z
LAST-MODIFIED:20250929T234659Z
UID:10001282-1760443200-1760446800@ip.wsu.edu
SUMMARY:English Conversation Table
DESCRIPTION:
URL:https://ip.wsu.edu/event/english-conversation-table/2025-10-14/
LOCATION:CUB L46
CATEGORIES:International Center,Language Table
ORGANIZER;CN="International%20Center":MAILTO:ip.intlcenter@wsu.edu
END:VEVENT
BEGIN:VEVENT
DTSTART;TZID=America/Los_Angeles:20251014T133000
DTEND;TZID=America/Los_Angeles:20251014T143000
DTSTAMP:20260422T220751
CREATED:20250926T220529Z
LAST-MODIFIED:20260211T054103Z
UID:10005440-1760448600-1760452200@ip.wsu.edu
SUMMARY:Crafting Hour
DESCRIPTION:
URL:https://ip.wsu.edu/event/themed-crafting-hour/2025-10-14/
LOCATION:CUB L46
CATEGORIES:International Center
ORGANIZER;CN="International%20Center":MAILTO:ip.intlcenter@wsu.edu
END:VEVENT
BEGIN:VEVENT
DTSTART;TZID=America/Los_Angeles:20251015T120000
DTEND;TZID=America/Los_Angeles:20251015T130000
DTSTAMP:20260422T220751
CREATED:20250926T213944Z
LAST-MODIFIED:20250929T234659Z
UID:10001283-1760529600-1760533200@ip.wsu.edu
SUMMARY:English Conversation Table
DESCRIPTION:
URL:https://ip.wsu.edu/event/english-conversation-table/2025-10-15/
LOCATION:CUB L46
CATEGORIES:International Center,Language Table
ORGANIZER;CN="International%20Center":MAILTO:ip.intlcenter@wsu.edu
END:VEVENT
BEGIN:VEVENT
DTSTART;TZID=America/Los_Angeles:20251015T150000
DTEND;TZID=America/Los_Angeles:20251015T160000
DTSTAMP:20260422T220751
CREATED:20250926T215054Z
LAST-MODIFIED:20260206T220859Z
UID:10003100-1760540400-1760544000@ip.wsu.edu
SUMMARY:Korean Conversation Table
DESCRIPTION:
URL:https://ip.wsu.edu/event/korean-conversation-table/2025-10-15/
LOCATION:CUB L37
CATEGORIES:International Center,Language Table
ORGANIZER;CN="International%20Center":MAILTO:ip.intlcenter@wsu.edu
END:VEVENT
BEGIN:VEVENT
DTSTART;TZID=America/Los_Angeles:20251016T120000
DTEND;TZID=America/Los_Angeles:20251016T130000
DTSTAMP:20260422T220751
CREATED:20250926T213944Z
LAST-MODIFIED:20250929T234659Z
UID:10004670-1760616000-1760619600@ip.wsu.edu
SUMMARY:English Conversation Table
DESCRIPTION:
URL:https://ip.wsu.edu/event/english-conversation-table/2025-10-16/
LOCATION:CUB L46
CATEGORIES:International Center,Language Table
ORGANIZER;CN="International%20Center":MAILTO:ip.intlcenter@wsu.edu
END:VEVENT
BEGIN:VEVENT
DTSTART;TZID=America/Los_Angeles:20251017T120000
DTEND;TZID=America/Los_Angeles:20251017T130000
DTSTAMP:20260422T220751
CREATED:20250926T213944Z
LAST-MODIFIED:20250929T234659Z
UID:10001285-1760702400-1760706000@ip.wsu.edu
SUMMARY:English Conversation Table
DESCRIPTION:
URL:https://ip.wsu.edu/event/english-conversation-table/2025-10-17/
LOCATION:CUB L46
CATEGORIES:International Center,Language Table
ORGANIZER;CN="International%20Center":MAILTO:ip.intlcenter@wsu.edu
END:VEVENT
BEGIN:VEVENT
DTSTART;TZID=America/Los_Angeles:20251017T150000
DTEND;TZID=America/Los_Angeles:20251017T160000
DTSTAMP:20260422T220751
CREATED:20250926T213621Z
LAST-MODIFIED:20260211T053944Z
UID:10005159-1760713200-1760716800@ip.wsu.edu
SUMMARY:Coffee Hour
DESCRIPTION:
URL:https://ip.wsu.edu/event/coffee-hour/2025-10-17/
LOCATION:CUB L46
CATEGORIES:Coffee Hour,International Center
ORGANIZER;CN="International%20Center":MAILTO:ip.intlcenter@wsu.edu
END:VEVENT
BEGIN:VEVENT
DTSTART;TZID=America/Los_Angeles:20251017T150000
DTEND;TZID=America/Los_Angeles:20251017T163000
DTSTAMP:20260422T220751
CREATED:20250926T215725Z
LAST-MODIFIED:20260206T221438Z
UID:10003624-1760713200-1760718600@ip.wsu.edu
SUMMARY:Chinese Conversation Table
DESCRIPTION:
URL:https://ip.wsu.edu/event/chinese-conversation-table/2025-10-17/
LOCATION:CUB L38
CATEGORIES:International Center,Language Table
ORGANIZER;CN="International%20Center":MAILTO:ip.intlcenter@wsu.edu
END:VEVENT
BEGIN:VEVENT
DTSTART;TZID=America/Los_Angeles:20251017T153000
DTEND;TZID=America/Los_Angeles:20251017T173000
DTSTAMP:20260422T220751
CREATED:20250926T215937Z
LAST-MODIFIED:20260206T221428Z
UID:10003885-1760715000-1760722200@ip.wsu.edu
SUMMARY:Japanese Conversation Table
DESCRIPTION:
URL:https://ip.wsu.edu/event/japanese-conversation-table/2025-10-17/
LOCATION:CUB L37
CATEGORIES:International Center,Language Table
ORGANIZER;CN="International%20Center":MAILTO:ip.intlcenter@wsu.edu
END:VEVENT
BEGIN:VEVENT
DTSTART;TZID=America/Los_Angeles:20251020T120000
DTEND;TZID=America/Los_Angeles:20251020T130000
DTSTAMP:20260422T220751
CREATED:20250926T213944Z
LAST-MODIFIED:20250929T234659Z
UID:10001286-1760961600-1760965200@ip.wsu.edu
SUMMARY:English Conversation Table
DESCRIPTION:
URL:https://ip.wsu.edu/event/english-conversation-table/2025-10-20/
LOCATION:CUB L46
CATEGORIES:International Center,Language Table
ORGANIZER;CN="International%20Center":MAILTO:ip.intlcenter@wsu.edu
END:VEVENT
BEGIN:VEVENT
DTSTART;TZID=America/Los_Angeles:20251021T120000
DTEND;TZID=America/Los_Angeles:20251021T130000
DTSTAMP:20260422T220751
CREATED:20250926T213944Z
LAST-MODIFIED:20250929T234659Z
UID:10001287-1761048000-1761051600@ip.wsu.edu
SUMMARY:English Conversation Table
DESCRIPTION:
URL:https://ip.wsu.edu/event/english-conversation-table/2025-10-21/
LOCATION:CUB L46
CATEGORIES:International Center,Language Table
ORGANIZER;CN="International%20Center":MAILTO:ip.intlcenter@wsu.edu
END:VEVENT
BEGIN:VEVENT
DTSTART;TZID=America/Los_Angeles:20251021T133000
DTEND;TZID=America/Los_Angeles:20251021T143000
DTSTAMP:20260422T220751
CREATED:20250926T220529Z
LAST-MODIFIED:20260211T054103Z
UID:10005441-1761053400-1761057000@ip.wsu.edu
SUMMARY:Crafting Hour
DESCRIPTION:
URL:https://ip.wsu.edu/event/themed-crafting-hour/2025-10-21/
LOCATION:CUB L46
CATEGORIES:International Center
ORGANIZER;CN="International%20Center":MAILTO:ip.intlcenter@wsu.edu
END:VEVENT
BEGIN:VEVENT
DTSTART;TZID=America/Los_Angeles:20251022T120000
DTEND;TZID=America/Los_Angeles:20251022T130000
DTSTAMP:20260422T220751
CREATED:20250926T213944Z
LAST-MODIFIED:20250929T234659Z
UID:10001288-1761134400-1761138000@ip.wsu.edu
SUMMARY:English Conversation Table
DESCRIPTION:
URL:https://ip.wsu.edu/event/english-conversation-table/2025-10-22/
LOCATION:CUB L46
CATEGORIES:International Center,Language Table
ORGANIZER;CN="International%20Center":MAILTO:ip.intlcenter@wsu.edu
END:VEVENT
BEGIN:VEVENT
DTSTART;TZID=America/Los_Angeles:20251022T150000
DTEND;TZID=America/Los_Angeles:20251022T160000
DTSTAMP:20260422T220751
CREATED:20250926T215054Z
LAST-MODIFIED:20260206T220859Z
UID:10003101-1761145200-1761148800@ip.wsu.edu
SUMMARY:Korean Conversation Table
DESCRIPTION:
URL:https://ip.wsu.edu/event/korean-conversation-table/2025-10-22/
LOCATION:CUB L37
CATEGORIES:International Center,Language Table
ORGANIZER;CN="International%20Center":MAILTO:ip.intlcenter@wsu.edu
END:VEVENT
BEGIN:VEVENT
DTSTART;TZID=America/Los_Angeles:20251023T120000
DTEND;TZID=America/Los_Angeles:20251023T130000
DTSTAMP:20260422T220751
CREATED:20250926T213944Z
LAST-MODIFIED:20250929T234659Z
UID:10004671-1761220800-1761224400@ip.wsu.edu
SUMMARY:English Conversation Table
DESCRIPTION:
URL:https://ip.wsu.edu/event/english-conversation-table/2025-10-23/
LOCATION:CUB L46
CATEGORIES:International Center,Language Table
ORGANIZER;CN="International%20Center":MAILTO:ip.intlcenter@wsu.edu
END:VEVENT
END:VCALENDAR