BEGIN:VCALENDAR
VERSION:2.0
PRODID:-//WSU International - ECPv6.1.3//NONSGML v1.0//EN
CALSCALE:GREGORIAN
METHOD:PUBLISH
X-WR-CALNAME:WSU International
X-ORIGINAL-URL:https://ip.wsu.edu
X-WR-CALDESC:Events for WSU International
REFRESH-INTERVAL;VALUE=DURATION:PT1H
X-Robots-Tag:noindex
X-PUBLISHED-TTL:PT1H
BEGIN:VTIMEZONE
TZID:America/Los_Angeles
BEGIN:DAYLIGHT
TZOFFSETFROM:-0800
TZOFFSETTO:-0700
TZNAME:PDT
DTSTART:20250309T100000
END:DAYLIGHT
BEGIN:STANDARD
TZOFFSETFROM:-0700
TZOFFSETTO:-0800
TZNAME:PST
DTSTART:20251102T090000
END:STANDARD
BEGIN:DAYLIGHT
TZOFFSETFROM:-0800
TZOFFSETTO:-0700
TZNAME:PDT
DTSTART:20260308T100000
END:DAYLIGHT
BEGIN:STANDARD
TZOFFSETFROM:-0700
TZOFFSETTO:-0800
TZNAME:PST
DTSTART:20261101T090000
END:STANDARD
END:VTIMEZONE
BEGIN:VEVENT
DTSTART;TZID=America/Los_Angeles:20251222T120000
DTEND;TZID=America/Los_Angeles:20251222T130000
DTSTAMP:20260423T083807
CREATED:20250926T213944Z
LAST-MODIFIED:20250929T234659Z
UID:10001331-1766404800-1766408400@ip.wsu.edu
SUMMARY:English Conversation Table
DESCRIPTION:
URL:https://ip.wsu.edu/event/english-conversation-table/2025-12-22/
LOCATION:CUB L46
CATEGORIES:International Center,Language Table
ORGANIZER;CN="International%20Center":MAILTO:ip.intlcenter@wsu.edu
END:VEVENT
BEGIN:VEVENT
DTSTART;TZID=America/Los_Angeles:20251223T120000
DTEND;TZID=America/Los_Angeles:20251223T130000
DTSTAMP:20260423T083807
CREATED:20250926T213944Z
LAST-MODIFIED:20250929T234659Z
UID:10001332-1766491200-1766494800@ip.wsu.edu
SUMMARY:English Conversation Table
DESCRIPTION:
URL:https://ip.wsu.edu/event/english-conversation-table/2025-12-23/
LOCATION:CUB L46
CATEGORIES:International Center,Language Table
ORGANIZER;CN="International%20Center":MAILTO:ip.intlcenter@wsu.edu
END:VEVENT
BEGIN:VEVENT
DTSTART;TZID=America/Los_Angeles:20251223T133000
DTEND;TZID=America/Los_Angeles:20251223T143000
DTSTAMP:20260423T083807
CREATED:20250926T220529Z
LAST-MODIFIED:20260211T054103Z
UID:10005450-1766496600-1766500200@ip.wsu.edu
SUMMARY:Crafting Hour
DESCRIPTION:
URL:https://ip.wsu.edu/event/themed-crafting-hour/2025-12-23/
LOCATION:CUB L46
CATEGORIES:International Center
ORGANIZER;CN="International%20Center":MAILTO:ip.intlcenter@wsu.edu
END:VEVENT
BEGIN:VEVENT
DTSTART;TZID=America/Los_Angeles:20251224T120000
DTEND;TZID=America/Los_Angeles:20251224T130000
DTSTAMP:20260423T083807
CREATED:20250926T213944Z
LAST-MODIFIED:20250929T234659Z
UID:10001333-1766577600-1766581200@ip.wsu.edu
SUMMARY:English Conversation Table
DESCRIPTION:
URL:https://ip.wsu.edu/event/english-conversation-table/2025-12-24/
LOCATION:CUB L46
CATEGORIES:International Center,Language Table
ORGANIZER;CN="International%20Center":MAILTO:ip.intlcenter@wsu.edu
END:VEVENT
BEGIN:VEVENT
DTSTART;TZID=America/Los_Angeles:20251224T150000
DTEND;TZID=America/Los_Angeles:20251224T160000
DTSTAMP:20260423T083807
CREATED:20250926T215054Z
LAST-MODIFIED:20260206T220859Z
UID:10003110-1766588400-1766592000@ip.wsu.edu
SUMMARY:Korean Conversation Table
DESCRIPTION:
URL:https://ip.wsu.edu/event/korean-conversation-table/2025-12-24/
LOCATION:CUB L37
CATEGORIES:International Center,Language Table
ORGANIZER;CN="International%20Center":MAILTO:ip.intlcenter@wsu.edu
END:VEVENT
BEGIN:VEVENT
DTSTART;TZID=America/Los_Angeles:20251225T120000
DTEND;TZID=America/Los_Angeles:20251225T130000
DTSTAMP:20260423T083807
CREATED:20250926T213944Z
LAST-MODIFIED:20250929T234659Z
UID:10004680-1766664000-1766667600@ip.wsu.edu
SUMMARY:English Conversation Table
DESCRIPTION:
URL:https://ip.wsu.edu/event/english-conversation-table/2025-12-25/
LOCATION:CUB L46
CATEGORIES:International Center,Language Table
ORGANIZER;CN="International%20Center":MAILTO:ip.intlcenter@wsu.edu
END:VEVENT
BEGIN:VEVENT
DTSTART;TZID=America/Los_Angeles:20251226T120000
DTEND;TZID=America/Los_Angeles:20251226T130000
DTSTAMP:20260423T083807
CREATED:20250926T213944Z
LAST-MODIFIED:20250929T234659Z
UID:10001335-1766750400-1766754000@ip.wsu.edu
SUMMARY:English Conversation Table
DESCRIPTION:
URL:https://ip.wsu.edu/event/english-conversation-table/2025-12-26/
LOCATION:CUB L46
CATEGORIES:International Center,Language Table
ORGANIZER;CN="International%20Center":MAILTO:ip.intlcenter@wsu.edu
END:VEVENT
BEGIN:VEVENT
DTSTART;TZID=America/Los_Angeles:20251226T150000
DTEND;TZID=America/Los_Angeles:20251226T160000
DTSTAMP:20260423T083807
CREATED:20250926T213621Z
LAST-MODIFIED:20260211T053944Z
UID:10005169-1766761200-1766764800@ip.wsu.edu
SUMMARY:Coffee Hour
DESCRIPTION:
URL:https://ip.wsu.edu/event/coffee-hour/2025-12-26/
LOCATION:CUB L46
CATEGORIES:Coffee Hour,International Center
ORGANIZER;CN="International%20Center":MAILTO:ip.intlcenter@wsu.edu
END:VEVENT
BEGIN:VEVENT
DTSTART;TZID=America/Los_Angeles:20251226T150000
DTEND;TZID=America/Los_Angeles:20251226T163000
DTSTAMP:20260423T083807
CREATED:20250926T215725Z
LAST-MODIFIED:20260206T221438Z
UID:10003634-1766761200-1766766600@ip.wsu.edu
SUMMARY:Chinese Conversation Table
DESCRIPTION:
URL:https://ip.wsu.edu/event/chinese-conversation-table/2025-12-26/
LOCATION:CUB L38
CATEGORIES:International Center,Language Table
ORGANIZER;CN="International%20Center":MAILTO:ip.intlcenter@wsu.edu
END:VEVENT
BEGIN:VEVENT
DTSTART;TZID=America/Los_Angeles:20251226T153000
DTEND;TZID=America/Los_Angeles:20251226T173000
DTSTAMP:20260423T083807
CREATED:20250926T215937Z
LAST-MODIFIED:20260206T221428Z
UID:10003895-1766763000-1766770200@ip.wsu.edu
SUMMARY:Japanese Conversation Table
DESCRIPTION:
URL:https://ip.wsu.edu/event/japanese-conversation-table/2025-12-26/
LOCATION:CUB L37
CATEGORIES:International Center,Language Table
ORGANIZER;CN="International%20Center":MAILTO:ip.intlcenter@wsu.edu
END:VEVENT
BEGIN:VEVENT
DTSTART;TZID=America/Los_Angeles:20251229T120000
DTEND;TZID=America/Los_Angeles:20251229T130000
DTSTAMP:20260423T083807
CREATED:20250926T213944Z
LAST-MODIFIED:20250929T234659Z
UID:10001336-1767009600-1767013200@ip.wsu.edu
SUMMARY:English Conversation Table
DESCRIPTION:
URL:https://ip.wsu.edu/event/english-conversation-table/2025-12-29/
LOCATION:CUB L46
CATEGORIES:International Center,Language Table
ORGANIZER;CN="International%20Center":MAILTO:ip.intlcenter@wsu.edu
END:VEVENT
BEGIN:VEVENT
DTSTART;TZID=America/Los_Angeles:20251230T120000
DTEND;TZID=America/Los_Angeles:20251230T130000
DTSTAMP:20260423T083807
CREATED:20250926T213944Z
LAST-MODIFIED:20250929T234659Z
UID:10001337-1767096000-1767099600@ip.wsu.edu
SUMMARY:English Conversation Table
DESCRIPTION:
URL:https://ip.wsu.edu/event/english-conversation-table/2025-12-30/
LOCATION:CUB L46
CATEGORIES:International Center,Language Table
ORGANIZER;CN="International%20Center":MAILTO:ip.intlcenter@wsu.edu
END:VEVENT
BEGIN:VEVENT
DTSTART;TZID=America/Los_Angeles:20251230T133000
DTEND;TZID=America/Los_Angeles:20251230T143000
DTSTAMP:20260423T083807
CREATED:20250926T220529Z
LAST-MODIFIED:20260211T054103Z
UID:10005451-1767101400-1767105000@ip.wsu.edu
SUMMARY:Crafting Hour
DESCRIPTION:
URL:https://ip.wsu.edu/event/themed-crafting-hour/2025-12-30/
LOCATION:CUB L46
CATEGORIES:International Center
ORGANIZER;CN="International%20Center":MAILTO:ip.intlcenter@wsu.edu
END:VEVENT
BEGIN:VEVENT
DTSTART;TZID=America/Los_Angeles:20251231T120000
DTEND;TZID=America/Los_Angeles:20251231T130000
DTSTAMP:20260423T083807
CREATED:20250926T213944Z
LAST-MODIFIED:20250929T234659Z
UID:10001338-1767182400-1767186000@ip.wsu.edu
SUMMARY:English Conversation Table
DESCRIPTION:
URL:https://ip.wsu.edu/event/english-conversation-table/2025-12-31/
LOCATION:CUB L46
CATEGORIES:International Center,Language Table
ORGANIZER;CN="International%20Center":MAILTO:ip.intlcenter@wsu.edu
END:VEVENT
BEGIN:VEVENT
DTSTART;TZID=America/Los_Angeles:20251231T150000
DTEND;TZID=America/Los_Angeles:20251231T160000
DTSTAMP:20260423T083807
CREATED:20250926T215054Z
LAST-MODIFIED:20260206T220859Z
UID:10003111-1767193200-1767196800@ip.wsu.edu
SUMMARY:Korean Conversation Table
DESCRIPTION:
URL:https://ip.wsu.edu/event/korean-conversation-table/2025-12-31/
LOCATION:CUB L37
CATEGORIES:International Center,Language Table
ORGANIZER;CN="International%20Center":MAILTO:ip.intlcenter@wsu.edu
END:VEVENT
BEGIN:VEVENT
DTSTART;TZID=America/Los_Angeles:20260101T120000
DTEND;TZID=America/Los_Angeles:20260101T130000
DTSTAMP:20260423T083807
CREATED:20250926T213944Z
LAST-MODIFIED:20250929T234659Z
UID:10004681-1767268800-1767272400@ip.wsu.edu
SUMMARY:English Conversation Table
DESCRIPTION:
URL:https://ip.wsu.edu/event/english-conversation-table/2026-01-01/
LOCATION:CUB L46
CATEGORIES:International Center,Language Table
ORGANIZER;CN="International%20Center":MAILTO:ip.intlcenter@wsu.edu
END:VEVENT
BEGIN:VEVENT
DTSTART;TZID=America/Los_Angeles:20260102T120000
DTEND;TZID=America/Los_Angeles:20260102T130000
DTSTAMP:20260423T083807
CREATED:20250926T213944Z
LAST-MODIFIED:20250929T234659Z
UID:10001340-1767355200-1767358800@ip.wsu.edu
SUMMARY:English Conversation Table
DESCRIPTION:
URL:https://ip.wsu.edu/event/english-conversation-table/2026-01-02/
LOCATION:CUB L46
CATEGORIES:International Center,Language Table
ORGANIZER;CN="International%20Center":MAILTO:ip.intlcenter@wsu.edu
END:VEVENT
BEGIN:VEVENT
DTSTART;TZID=America/Los_Angeles:20260102T150000
DTEND;TZID=America/Los_Angeles:20260102T160000
DTSTAMP:20260423T083807
CREATED:20250926T213621Z
LAST-MODIFIED:20260211T053944Z
UID:10005170-1767366000-1767369600@ip.wsu.edu
SUMMARY:Coffee Hour
DESCRIPTION:
URL:https://ip.wsu.edu/event/coffee-hour/2026-01-02/
LOCATION:CUB L46
CATEGORIES:Coffee Hour,International Center
ORGANIZER;CN="International%20Center":MAILTO:ip.intlcenter@wsu.edu
END:VEVENT
BEGIN:VEVENT
DTSTART;TZID=America/Los_Angeles:20260102T150000
DTEND;TZID=America/Los_Angeles:20260102T163000
DTSTAMP:20260423T083807
CREATED:20250926T215725Z
LAST-MODIFIED:20260206T221438Z
UID:10003635-1767366000-1767371400@ip.wsu.edu
SUMMARY:Chinese Conversation Table
DESCRIPTION:
URL:https://ip.wsu.edu/event/chinese-conversation-table/2026-01-02/
LOCATION:CUB L38
CATEGORIES:International Center,Language Table
ORGANIZER;CN="International%20Center":MAILTO:ip.intlcenter@wsu.edu
END:VEVENT
BEGIN:VEVENT
DTSTART;TZID=America/Los_Angeles:20260102T153000
DTEND;TZID=America/Los_Angeles:20260102T173000
DTSTAMP:20260423T083807
CREATED:20250926T215937Z
LAST-MODIFIED:20260206T221428Z
UID:10003896-1767367800-1767375000@ip.wsu.edu
SUMMARY:Japanese Conversation Table
DESCRIPTION:
URL:https://ip.wsu.edu/event/japanese-conversation-table/2026-01-02/
LOCATION:CUB L37
CATEGORIES:International Center,Language Table
ORGANIZER;CN="International%20Center":MAILTO:ip.intlcenter@wsu.edu
END:VEVENT
BEGIN:VEVENT
DTSTART;TZID=America/Los_Angeles:20260105T120000
DTEND;TZID=America/Los_Angeles:20260105T130000
DTSTAMP:20260423T083807
CREATED:20250926T213944Z
LAST-MODIFIED:20250929T234659Z
UID:10001341-1767614400-1767618000@ip.wsu.edu
SUMMARY:English Conversation Table
DESCRIPTION:
URL:https://ip.wsu.edu/event/english-conversation-table/2026-01-05/
LOCATION:CUB L46
CATEGORIES:International Center,Language Table
ORGANIZER;CN="International%20Center":MAILTO:ip.intlcenter@wsu.edu
END:VEVENT
BEGIN:VEVENT
DTSTART;TZID=America/Los_Angeles:20260106T120000
DTEND;TZID=America/Los_Angeles:20260106T130000
DTSTAMP:20260423T083807
CREATED:20250926T213944Z
LAST-MODIFIED:20250929T234659Z
UID:10001342-1767700800-1767704400@ip.wsu.edu
SUMMARY:English Conversation Table
DESCRIPTION:
URL:https://ip.wsu.edu/event/english-conversation-table/2026-01-06/
LOCATION:CUB L46
CATEGORIES:International Center,Language Table
ORGANIZER;CN="International%20Center":MAILTO:ip.intlcenter@wsu.edu
END:VEVENT
BEGIN:VEVENT
DTSTART;TZID=America/Los_Angeles:20260106T133000
DTEND;TZID=America/Los_Angeles:20260106T143000
DTSTAMP:20260423T083807
CREATED:20250926T220529Z
LAST-MODIFIED:20260211T054103Z
UID:10005452-1767706200-1767709800@ip.wsu.edu
SUMMARY:Crafting Hour
DESCRIPTION:
URL:https://ip.wsu.edu/event/themed-crafting-hour/2026-01-06/
LOCATION:CUB L46
CATEGORIES:International Center
ORGANIZER;CN="International%20Center":MAILTO:ip.intlcenter@wsu.edu
END:VEVENT
BEGIN:VEVENT
DTSTART;TZID=America/Los_Angeles:20260107T120000
DTEND;TZID=America/Los_Angeles:20260107T130000
DTSTAMP:20260423T083807
CREATED:20250926T213944Z
LAST-MODIFIED:20250929T234659Z
UID:10001343-1767787200-1767790800@ip.wsu.edu
SUMMARY:English Conversation Table
DESCRIPTION:
URL:https://ip.wsu.edu/event/english-conversation-table/2026-01-07/
LOCATION:CUB L46
CATEGORIES:International Center,Language Table
ORGANIZER;CN="International%20Center":MAILTO:ip.intlcenter@wsu.edu
END:VEVENT
BEGIN:VEVENT
DTSTART;TZID=America/Los_Angeles:20260107T150000
DTEND;TZID=America/Los_Angeles:20260107T160000
DTSTAMP:20260423T083807
CREATED:20250926T215054Z
LAST-MODIFIED:20260206T220859Z
UID:10003112-1767798000-1767801600@ip.wsu.edu
SUMMARY:Korean Conversation Table
DESCRIPTION:
URL:https://ip.wsu.edu/event/korean-conversation-table/2026-01-07/
LOCATION:CUB L37
CATEGORIES:International Center,Language Table
ORGANIZER;CN="International%20Center":MAILTO:ip.intlcenter@wsu.edu
END:VEVENT
BEGIN:VEVENT
DTSTART;TZID=America/Los_Angeles:20260108T120000
DTEND;TZID=America/Los_Angeles:20260108T130000
DTSTAMP:20260423T083807
CREATED:20250926T213944Z
LAST-MODIFIED:20250929T234659Z
UID:10004682-1767873600-1767877200@ip.wsu.edu
SUMMARY:English Conversation Table
DESCRIPTION:
URL:https://ip.wsu.edu/event/english-conversation-table/2026-01-08/
LOCATION:CUB L46
CATEGORIES:International Center,Language Table
ORGANIZER;CN="International%20Center":MAILTO:ip.intlcenter@wsu.edu
END:VEVENT
BEGIN:VEVENT
DTSTART;TZID=America/Los_Angeles:20260109T120000
DTEND;TZID=America/Los_Angeles:20260109T130000
DTSTAMP:20260423T083807
CREATED:20250926T213944Z
LAST-MODIFIED:20250929T234659Z
UID:10001345-1767960000-1767963600@ip.wsu.edu
SUMMARY:English Conversation Table
DESCRIPTION:
URL:https://ip.wsu.edu/event/english-conversation-table/2026-01-09/
LOCATION:CUB L46
CATEGORIES:International Center,Language Table
ORGANIZER;CN="International%20Center":MAILTO:ip.intlcenter@wsu.edu
END:VEVENT
BEGIN:VEVENT
DTSTART;TZID=America/Los_Angeles:20260109T150000
DTEND;TZID=America/Los_Angeles:20260109T160000
DTSTAMP:20260423T083807
CREATED:20250926T213621Z
LAST-MODIFIED:20260211T053944Z
UID:10005171-1767970800-1767974400@ip.wsu.edu
SUMMARY:Coffee Hour
DESCRIPTION:
URL:https://ip.wsu.edu/event/coffee-hour/2026-01-09/
LOCATION:CUB L46
CATEGORIES:Coffee Hour,International Center
ORGANIZER;CN="International%20Center":MAILTO:ip.intlcenter@wsu.edu
END:VEVENT
BEGIN:VEVENT
DTSTART;TZID=America/Los_Angeles:20260109T150000
DTEND;TZID=America/Los_Angeles:20260109T163000
DTSTAMP:20260423T083807
CREATED:20250926T215725Z
LAST-MODIFIED:20260206T221438Z
UID:10003636-1767970800-1767976200@ip.wsu.edu
SUMMARY:Chinese Conversation Table
DESCRIPTION:
URL:https://ip.wsu.edu/event/chinese-conversation-table/2026-01-09/
LOCATION:CUB L38
CATEGORIES:International Center,Language Table
ORGANIZER;CN="International%20Center":MAILTO:ip.intlcenter@wsu.edu
END:VEVENT
BEGIN:VEVENT
DTSTART;TZID=America/Los_Angeles:20260109T153000
DTEND;TZID=America/Los_Angeles:20260109T173000
DTSTAMP:20260423T083807
CREATED:20250926T215937Z
LAST-MODIFIED:20260206T221428Z
UID:10003897-1767972600-1767979800@ip.wsu.edu
SUMMARY:Japanese Conversation Table
DESCRIPTION:
URL:https://ip.wsu.edu/event/japanese-conversation-table/2026-01-09/
LOCATION:CUB L37
CATEGORIES:International Center,Language Table
ORGANIZER;CN="International%20Center":MAILTO:ip.intlcenter@wsu.edu
END:VEVENT
END:VCALENDAR