BEGIN:VCALENDAR
VERSION:2.0
PRODID:-//WSU International - ECPv6.1.3//NONSGML v1.0//EN
CALSCALE:GREGORIAN
METHOD:PUBLISH
X-WR-CALNAME:WSU International
X-ORIGINAL-URL:https://ip.wsu.edu
X-WR-CALDESC:Events for WSU International
REFRESH-INTERVAL;VALUE=DURATION:PT1H
X-Robots-Tag:noindex
X-PUBLISHED-TTL:PT1H
BEGIN:VTIMEZONE
TZID:America/Los_Angeles
BEGIN:DAYLIGHT
TZOFFSETFROM:-0800
TZOFFSETTO:-0700
TZNAME:PDT
DTSTART:20260308T100000
END:DAYLIGHT
BEGIN:STANDARD
TZOFFSETFROM:-0700
TZOFFSETTO:-0800
TZNAME:PST
DTSTART:20261101T090000
END:STANDARD
END:VTIMEZONE
BEGIN:VEVENT
DTSTART;TZID=America/Los_Angeles:20260106T120000
DTEND;TZID=America/Los_Angeles:20260106T130000
DTSTAMP:20260423T174458
CREATED:20250926T213944Z
LAST-MODIFIED:20250929T234659Z
UID:10001342-1767700800-1767704400@ip.wsu.edu
SUMMARY:English Conversation Table
DESCRIPTION:
URL:https://ip.wsu.edu/event/english-conversation-table/2026-01-06/
LOCATION:CUB L46
CATEGORIES:International Center,Language Table
ORGANIZER;CN="International%20Center":MAILTO:ip.intlcenter@wsu.edu
END:VEVENT
BEGIN:VEVENT
DTSTART;TZID=America/Los_Angeles:20260106T133000
DTEND;TZID=America/Los_Angeles:20260106T143000
DTSTAMP:20260423T174458
CREATED:20250926T220529Z
LAST-MODIFIED:20260211T054103Z
UID:10005452-1767706200-1767709800@ip.wsu.edu
SUMMARY:Crafting Hour
DESCRIPTION:
URL:https://ip.wsu.edu/event/themed-crafting-hour/2026-01-06/
LOCATION:CUB L46
CATEGORIES:International Center
ORGANIZER;CN="International%20Center":MAILTO:ip.intlcenter@wsu.edu
END:VEVENT
BEGIN:VEVENT
DTSTART;TZID=America/Los_Angeles:20260107T120000
DTEND;TZID=America/Los_Angeles:20260107T130000
DTSTAMP:20260423T174458
CREATED:20250926T213944Z
LAST-MODIFIED:20250929T234659Z
UID:10001343-1767787200-1767790800@ip.wsu.edu
SUMMARY:English Conversation Table
DESCRIPTION:
URL:https://ip.wsu.edu/event/english-conversation-table/2026-01-07/
LOCATION:CUB L46
CATEGORIES:International Center,Language Table
ORGANIZER;CN="International%20Center":MAILTO:ip.intlcenter@wsu.edu
END:VEVENT
BEGIN:VEVENT
DTSTART;TZID=America/Los_Angeles:20260107T150000
DTEND;TZID=America/Los_Angeles:20260107T160000
DTSTAMP:20260423T174458
CREATED:20250926T215054Z
LAST-MODIFIED:20260206T220859Z
UID:10003112-1767798000-1767801600@ip.wsu.edu
SUMMARY:Korean Conversation Table
DESCRIPTION:
URL:https://ip.wsu.edu/event/korean-conversation-table/2026-01-07/
LOCATION:CUB L37
CATEGORIES:International Center,Language Table
ORGANIZER;CN="International%20Center":MAILTO:ip.intlcenter@wsu.edu
END:VEVENT
BEGIN:VEVENT
DTSTART;TZID=America/Los_Angeles:20260108T120000
DTEND;TZID=America/Los_Angeles:20260108T130000
DTSTAMP:20260423T174458
CREATED:20250926T213944Z
LAST-MODIFIED:20250929T234659Z
UID:10004682-1767873600-1767877200@ip.wsu.edu
SUMMARY:English Conversation Table
DESCRIPTION:
URL:https://ip.wsu.edu/event/english-conversation-table/2026-01-08/
LOCATION:CUB L46
CATEGORIES:International Center,Language Table
ORGANIZER;CN="International%20Center":MAILTO:ip.intlcenter@wsu.edu
END:VEVENT
BEGIN:VEVENT
DTSTART;TZID=America/Los_Angeles:20260109T120000
DTEND;TZID=America/Los_Angeles:20260109T130000
DTSTAMP:20260423T174458
CREATED:20250926T213944Z
LAST-MODIFIED:20250929T234659Z
UID:10001345-1767960000-1767963600@ip.wsu.edu
SUMMARY:English Conversation Table
DESCRIPTION:
URL:https://ip.wsu.edu/event/english-conversation-table/2026-01-09/
LOCATION:CUB L46
CATEGORIES:International Center,Language Table
ORGANIZER;CN="International%20Center":MAILTO:ip.intlcenter@wsu.edu
END:VEVENT
BEGIN:VEVENT
DTSTART;TZID=America/Los_Angeles:20260109T150000
DTEND;TZID=America/Los_Angeles:20260109T160000
DTSTAMP:20260423T174458
CREATED:20250926T213621Z
LAST-MODIFIED:20260211T053944Z
UID:10005171-1767970800-1767974400@ip.wsu.edu
SUMMARY:Coffee Hour
DESCRIPTION:
URL:https://ip.wsu.edu/event/coffee-hour/2026-01-09/
LOCATION:CUB L46
CATEGORIES:Coffee Hour,International Center
ORGANIZER;CN="International%20Center":MAILTO:ip.intlcenter@wsu.edu
END:VEVENT
BEGIN:VEVENT
DTSTART;TZID=America/Los_Angeles:20260109T150000
DTEND;TZID=America/Los_Angeles:20260109T163000
DTSTAMP:20260423T174458
CREATED:20250926T215725Z
LAST-MODIFIED:20260206T221438Z
UID:10003636-1767970800-1767976200@ip.wsu.edu
SUMMARY:Chinese Conversation Table
DESCRIPTION:
URL:https://ip.wsu.edu/event/chinese-conversation-table/2026-01-09/
LOCATION:CUB L38
CATEGORIES:International Center,Language Table
ORGANIZER;CN="International%20Center":MAILTO:ip.intlcenter@wsu.edu
END:VEVENT
BEGIN:VEVENT
DTSTART;TZID=America/Los_Angeles:20260109T153000
DTEND;TZID=America/Los_Angeles:20260109T173000
DTSTAMP:20260423T174458
CREATED:20250926T215937Z
LAST-MODIFIED:20260206T221428Z
UID:10003897-1767972600-1767979800@ip.wsu.edu
SUMMARY:Japanese Conversation Table
DESCRIPTION:
URL:https://ip.wsu.edu/event/japanese-conversation-table/2026-01-09/
LOCATION:CUB L37
CATEGORIES:International Center,Language Table
ORGANIZER;CN="International%20Center":MAILTO:ip.intlcenter@wsu.edu
END:VEVENT
BEGIN:VEVENT
DTSTART;TZID=America/Los_Angeles:20260112T120000
DTEND;TZID=America/Los_Angeles:20260112T130000
DTSTAMP:20260423T174458
CREATED:20250926T213944Z
LAST-MODIFIED:20250929T234659Z
UID:10001346-1768219200-1768222800@ip.wsu.edu
SUMMARY:English Conversation Table
DESCRIPTION:
URL:https://ip.wsu.edu/event/english-conversation-table/2026-01-12/
LOCATION:CUB L46
CATEGORIES:International Center,Language Table
ORGANIZER;CN="International%20Center":MAILTO:ip.intlcenter@wsu.edu
END:VEVENT
BEGIN:VEVENT
DTSTART;TZID=America/Los_Angeles:20260113T120000
DTEND;TZID=America/Los_Angeles:20260113T130000
DTSTAMP:20260423T174458
CREATED:20250926T213944Z
LAST-MODIFIED:20250929T234659Z
UID:10001347-1768305600-1768309200@ip.wsu.edu
SUMMARY:English Conversation Table
DESCRIPTION:
URL:https://ip.wsu.edu/event/english-conversation-table/2026-01-13/
LOCATION:CUB L46
CATEGORIES:International Center,Language Table
ORGANIZER;CN="International%20Center":MAILTO:ip.intlcenter@wsu.edu
END:VEVENT
BEGIN:VEVENT
DTSTART;TZID=America/Los_Angeles:20260113T133000
DTEND;TZID=America/Los_Angeles:20260113T143000
DTSTAMP:20260423T174458
CREATED:20250926T220529Z
LAST-MODIFIED:20260211T054103Z
UID:10005453-1768311000-1768314600@ip.wsu.edu
SUMMARY:Crafting Hour
DESCRIPTION:
URL:https://ip.wsu.edu/event/themed-crafting-hour/2026-01-13/
LOCATION:CUB L46
CATEGORIES:International Center
ORGANIZER;CN="International%20Center":MAILTO:ip.intlcenter@wsu.edu
END:VEVENT
BEGIN:VEVENT
DTSTART;TZID=America/Los_Angeles:20260114T120000
DTEND;TZID=America/Los_Angeles:20260114T130000
DTSTAMP:20260423T174458
CREATED:20250926T213944Z
LAST-MODIFIED:20250929T234659Z
UID:10001348-1768392000-1768395600@ip.wsu.edu
SUMMARY:English Conversation Table
DESCRIPTION:
URL:https://ip.wsu.edu/event/english-conversation-table/2026-01-14/
LOCATION:CUB L46
CATEGORIES:International Center,Language Table
ORGANIZER;CN="International%20Center":MAILTO:ip.intlcenter@wsu.edu
END:VEVENT
BEGIN:VEVENT
DTSTART;TZID=America/Los_Angeles:20260114T150000
DTEND;TZID=America/Los_Angeles:20260114T160000
DTSTAMP:20260423T174458
CREATED:20250926T215054Z
LAST-MODIFIED:20260206T220859Z
UID:10003113-1768402800-1768406400@ip.wsu.edu
SUMMARY:Korean Conversation Table
DESCRIPTION:
URL:https://ip.wsu.edu/event/korean-conversation-table/2026-01-14/
LOCATION:CUB L37
CATEGORIES:International Center,Language Table
ORGANIZER;CN="International%20Center":MAILTO:ip.intlcenter@wsu.edu
END:VEVENT
BEGIN:VEVENT
DTSTART;TZID=America/Los_Angeles:20260115T120000
DTEND;TZID=America/Los_Angeles:20260115T130000
DTSTAMP:20260423T174458
CREATED:20250926T213944Z
LAST-MODIFIED:20250929T234659Z
UID:10004683-1768478400-1768482000@ip.wsu.edu
SUMMARY:English Conversation Table
DESCRIPTION:
URL:https://ip.wsu.edu/event/english-conversation-table/2026-01-15/
LOCATION:CUB L46
CATEGORIES:International Center,Language Table
ORGANIZER;CN="International%20Center":MAILTO:ip.intlcenter@wsu.edu
END:VEVENT
BEGIN:VEVENT
DTSTART;TZID=America/Los_Angeles:20260116T120000
DTEND;TZID=America/Los_Angeles:20260116T130000
DTSTAMP:20260423T174458
CREATED:20250926T213944Z
LAST-MODIFIED:20250929T234659Z
UID:10001350-1768564800-1768568400@ip.wsu.edu
SUMMARY:English Conversation Table
DESCRIPTION:
URL:https://ip.wsu.edu/event/english-conversation-table/2026-01-16/
LOCATION:CUB L46
CATEGORIES:International Center,Language Table
ORGANIZER;CN="International%20Center":MAILTO:ip.intlcenter@wsu.edu
END:VEVENT
BEGIN:VEVENT
DTSTART;TZID=America/Los_Angeles:20260116T150000
DTEND;TZID=America/Los_Angeles:20260116T160000
DTSTAMP:20260423T174458
CREATED:20250926T213621Z
LAST-MODIFIED:20260211T053944Z
UID:10005172-1768575600-1768579200@ip.wsu.edu
SUMMARY:Coffee Hour
DESCRIPTION:
URL:https://ip.wsu.edu/event/coffee-hour/2026-01-16/
LOCATION:CUB L46
CATEGORIES:Coffee Hour,International Center
ORGANIZER;CN="International%20Center":MAILTO:ip.intlcenter@wsu.edu
END:VEVENT
BEGIN:VEVENT
DTSTART;TZID=America/Los_Angeles:20260116T150000
DTEND;TZID=America/Los_Angeles:20260116T163000
DTSTAMP:20260423T174458
CREATED:20250926T215725Z
LAST-MODIFIED:20260206T221438Z
UID:10003637-1768575600-1768581000@ip.wsu.edu
SUMMARY:Chinese Conversation Table
DESCRIPTION:
URL:https://ip.wsu.edu/event/chinese-conversation-table/2026-01-16/
LOCATION:CUB L38
CATEGORIES:International Center,Language Table
ORGANIZER;CN="International%20Center":MAILTO:ip.intlcenter@wsu.edu
END:VEVENT
BEGIN:VEVENT
DTSTART;TZID=America/Los_Angeles:20260116T153000
DTEND;TZID=America/Los_Angeles:20260116T173000
DTSTAMP:20260423T174458
CREATED:20250926T215937Z
LAST-MODIFIED:20260206T221428Z
UID:10003898-1768577400-1768584600@ip.wsu.edu
SUMMARY:Japanese Conversation Table
DESCRIPTION:
URL:https://ip.wsu.edu/event/japanese-conversation-table/2026-01-16/
LOCATION:CUB L37
CATEGORIES:International Center,Language Table
ORGANIZER;CN="International%20Center":MAILTO:ip.intlcenter@wsu.edu
END:VEVENT
BEGIN:VEVENT
DTSTART;TZID=America/Los_Angeles:20260119T120000
DTEND;TZID=America/Los_Angeles:20260119T130000
DTSTAMP:20260423T174458
CREATED:20250926T213944Z
LAST-MODIFIED:20250929T234659Z
UID:10001351-1768824000-1768827600@ip.wsu.edu
SUMMARY:English Conversation Table
DESCRIPTION:
URL:https://ip.wsu.edu/event/english-conversation-table/2026-01-19/
LOCATION:CUB L46
CATEGORIES:International Center,Language Table
ORGANIZER;CN="International%20Center":MAILTO:ip.intlcenter@wsu.edu
END:VEVENT
BEGIN:VEVENT
DTSTART;TZID=America/Los_Angeles:20260120T120000
DTEND;TZID=America/Los_Angeles:20260120T130000
DTSTAMP:20260423T174458
CREATED:20250926T213944Z
LAST-MODIFIED:20250929T234659Z
UID:10001352-1768910400-1768914000@ip.wsu.edu
SUMMARY:English Conversation Table
DESCRIPTION:
URL:https://ip.wsu.edu/event/english-conversation-table/2026-01-20/
LOCATION:CUB L46
CATEGORIES:International Center,Language Table
ORGANIZER;CN="International%20Center":MAILTO:ip.intlcenter@wsu.edu
END:VEVENT
BEGIN:VEVENT
DTSTART;TZID=America/Los_Angeles:20260120T133000
DTEND;TZID=America/Los_Angeles:20260120T143000
DTSTAMP:20260423T174458
CREATED:20250926T220529Z
LAST-MODIFIED:20260211T054103Z
UID:10005454-1768915800-1768919400@ip.wsu.edu
SUMMARY:Crafting Hour
DESCRIPTION:
URL:https://ip.wsu.edu/event/themed-crafting-hour/2026-01-20/
LOCATION:CUB L46
CATEGORIES:International Center
ORGANIZER;CN="International%20Center":MAILTO:ip.intlcenter@wsu.edu
END:VEVENT
BEGIN:VEVENT
DTSTART;TZID=America/Los_Angeles:20260121T120000
DTEND;TZID=America/Los_Angeles:20260121T130000
DTSTAMP:20260423T174458
CREATED:20250926T213944Z
LAST-MODIFIED:20250929T234659Z
UID:10001353-1768996800-1769000400@ip.wsu.edu
SUMMARY:English Conversation Table
DESCRIPTION:
URL:https://ip.wsu.edu/event/english-conversation-table/2026-01-21/
LOCATION:CUB L46
CATEGORIES:International Center,Language Table
ORGANIZER;CN="International%20Center":MAILTO:ip.intlcenter@wsu.edu
END:VEVENT
BEGIN:VEVENT
DTSTART;TZID=America/Los_Angeles:20260121T150000
DTEND;TZID=America/Los_Angeles:20260121T160000
DTSTAMP:20260423T174458
CREATED:20250926T215054Z
LAST-MODIFIED:20260206T220859Z
UID:10003114-1769007600-1769011200@ip.wsu.edu
SUMMARY:Korean Conversation Table
DESCRIPTION:
URL:https://ip.wsu.edu/event/korean-conversation-table/2026-01-21/
LOCATION:CUB L37
CATEGORIES:International Center,Language Table
ORGANIZER;CN="International%20Center":MAILTO:ip.intlcenter@wsu.edu
END:VEVENT
BEGIN:VEVENT
DTSTART;TZID=America/Los_Angeles:20260122T120000
DTEND;TZID=America/Los_Angeles:20260122T130000
DTSTAMP:20260423T174458
CREATED:20250926T213944Z
LAST-MODIFIED:20250929T234659Z
UID:10004684-1769083200-1769086800@ip.wsu.edu
SUMMARY:English Conversation Table
DESCRIPTION:
URL:https://ip.wsu.edu/event/english-conversation-table/2026-01-22/
LOCATION:CUB L46
CATEGORIES:International Center,Language Table
ORGANIZER;CN="International%20Center":MAILTO:ip.intlcenter@wsu.edu
END:VEVENT
BEGIN:VEVENT
DTSTART;TZID=America/Los_Angeles:20260123T120000
DTEND;TZID=America/Los_Angeles:20260123T130000
DTSTAMP:20260423T174458
CREATED:20250926T213944Z
LAST-MODIFIED:20250929T234659Z
UID:10001355-1769169600-1769173200@ip.wsu.edu
SUMMARY:English Conversation Table
DESCRIPTION:
URL:https://ip.wsu.edu/event/english-conversation-table/2026-01-23/
LOCATION:CUB L46
CATEGORIES:International Center,Language Table
ORGANIZER;CN="International%20Center":MAILTO:ip.intlcenter@wsu.edu
END:VEVENT
BEGIN:VEVENT
DTSTART;TZID=America/Los_Angeles:20260123T150000
DTEND;TZID=America/Los_Angeles:20260123T160000
DTSTAMP:20260423T174459
CREATED:20250926T213621Z
LAST-MODIFIED:20260211T053944Z
UID:10005173-1769180400-1769184000@ip.wsu.edu
SUMMARY:Coffee Hour
DESCRIPTION:
URL:https://ip.wsu.edu/event/coffee-hour/2026-01-23/
LOCATION:CUB L46
CATEGORIES:Coffee Hour,International Center
ORGANIZER;CN="International%20Center":MAILTO:ip.intlcenter@wsu.edu
END:VEVENT
BEGIN:VEVENT
DTSTART;TZID=America/Los_Angeles:20260123T150000
DTEND;TZID=America/Los_Angeles:20260123T163000
DTSTAMP:20260423T174459
CREATED:20250926T215725Z
LAST-MODIFIED:20260206T221438Z
UID:10003638-1769180400-1769185800@ip.wsu.edu
SUMMARY:Chinese Conversation Table
DESCRIPTION:
URL:https://ip.wsu.edu/event/chinese-conversation-table/2026-01-23/
LOCATION:CUB L38
CATEGORIES:International Center,Language Table
ORGANIZER;CN="International%20Center":MAILTO:ip.intlcenter@wsu.edu
END:VEVENT
BEGIN:VEVENT
DTSTART;TZID=America/Los_Angeles:20260123T153000
DTEND;TZID=America/Los_Angeles:20260123T173000
DTSTAMP:20260423T174459
CREATED:20250926T215937Z
LAST-MODIFIED:20260206T221428Z
UID:10003899-1769182200-1769189400@ip.wsu.edu
SUMMARY:Japanese Conversation Table
DESCRIPTION:
URL:https://ip.wsu.edu/event/japanese-conversation-table/2026-01-23/
LOCATION:CUB L37
CATEGORIES:International Center,Language Table
ORGANIZER;CN="International%20Center":MAILTO:ip.intlcenter@wsu.edu
END:VEVENT
BEGIN:VEVENT
DTSTART;TZID=America/Los_Angeles:20260126T120000
DTEND;TZID=America/Los_Angeles:20260126T130000
DTSTAMP:20260423T174459
CREATED:20250926T213944Z
LAST-MODIFIED:20250929T234659Z
UID:10001356-1769428800-1769432400@ip.wsu.edu
SUMMARY:English Conversation Table
DESCRIPTION:
URL:https://ip.wsu.edu/event/english-conversation-table/2026-01-26/
LOCATION:CUB L46
CATEGORIES:International Center,Language Table
ORGANIZER;CN="International%20Center":MAILTO:ip.intlcenter@wsu.edu
END:VEVENT
END:VCALENDAR